Workbook
Name ДАнет: Парапетры!$E$2:$E$3
Name команда: Рейтинг!$B$5:$B$80
Name команды: Рейтинг!$B$5:$B$80
Name кубок: Парапетры!$G$81:$G$87

Sheet Рейтинг
A1: Классификация сезона 2010-2011
A2: Место | B2: Команда | C2: Итого | D2: Турнир и его класс | N2: Турниров в которых участвовали
D3: ТСА | E3: Кубок ТСА | F3: ФФФ Классика | G3: ФФП Счет | H3: Кубок ФФП | I3: Спартакиада | J3: Лига Торпедо.ру | K3: Гран-При ТнП | L3: Отбор к Гран-При | M3: Кубок Лева
D4: =IF(ТСА!C2="Да",ТСА!C21,ТСА!C22) -> Премьер | E4: ='ТСА Кубок'!C21 -> kA | F4: =IF(ФФП.Классика!C2="Да",ФФП.Классика!C21,ФФП.Классика!C22) -> A | G4: =IF(ФФП.счет!C2="Да",ФФП.счет!C21,ФФП.счет!C22) -> B | H4: =КубокФФП!C21 -> kD | I4: =Спартакиада!C21 -> Премьер | J4: =Торпедо!C21 -> C | K4: =IF('Гран-При ТнП'!C2="Да",'Гран-При ТнП'!C21,'Гран-При ТнП'!C22) -> Премьер | L4: =IF('ОТ Гран-При'!C2="Да",'ОТ Гран-При'!C21,'ОТ Гран-При'!C22) -> D | M4: =IF('Кубок Лева'!C2="Да",'Кубок Лева'!C21,'Кубок Лева'!C22) -> C
A5: 1 | B5: МКСП "Альянс" | C5: =IFERROR(LARGE(D5:M5,1),0)+IFERROR(LARGE(D5:M5,2),0)+IFERROR(LARGE(D5:M5,3),0)+IFERROR(LARGE(D5:M5,4),0)+IFERROR(LARGE(D5:M5,5),0)+IFERROR(LARGE(D5:M5,6),0)+IFERROR(LARGE(D5:M5,7),0) -> 401 | D5: =IFERROR(VLOOKUP($B5,ТСА!$E$4:$I$52,ТСА!$D$2,0),"-") -> 94 | E5: =IFERROR(VLOOKUP($B5,'ТСА Кубок'!$E$4:$I$50,'ТСА Кубок'!$D$2,0),"-") -> 43 | F5: =IFERROR(VLOOKUP($B5,ФФП.Классика!$E$4:$I$46,ФФП.Классика!$D$2,0),"-") -> 83 | G5: =IFERROR(VLOOKUP($B5,ФФП.счет!$E$4:$I$54,ФФП.счет!$D$2,0),"-") -> 60 | H5: =IFERROR(VLOOKUP($B5,КубокФФП!$E$4:$I$50,КубокФФП!$D$2,0),"-") -> - | I5: =IFERROR(VLOOKUP($B5,Спартакиада!$E$4:$I$50,Спартакиада!$D$2,0),"-") -> 44 | J5: =IFERROR(VLOOKUP($B5,Торпедо!$E$4:$I$50,Торпедо!$D$2,0),"-") -> 25 | K5: =IFERROR(VLOOKUP(B5,'Гран-При ТнП'!$E$4:$I$50,'Гран-При ТнП'!$D$2,0),"-") -> 8 | L5: =IFERROR(VLOOKUP($B5,'ОТ Гран-При'!$E$4:$I$50,'ОТ Гран-При'!$D$2,0),"-") -> - | M5: =IFERROR(VLOOKUP($B5,'Кубок Лева'!$E$4:$I$50,'Кубок Лева'!$D$2,0),"-") -> 52 | N5: =10-COUNTIF(D5:M5,"-") -> 8
A6: 2 | B6: Красно-Белый Израиль (КБИ) | C6: =IFERROR(LARGE(D6:M6,1),0)+IFERROR(LARGE(D6:M6,2),0)+IFERROR(LARGE(D6:M6,3),0)+IFERROR(LARGE(D6:M6,4),0)+IFERROR(LARGE(D6:M6,5),0)+IFERROR(LARGE(D6:M6,6),0)+IFERROR(LARGE(D6:M6,7),0) -> 380 | D6: =IFERROR(VLOOKUP($B6,ТСА!$E$4:$I$52,ТСА!$D$2,0),"-") -> 41 | E6: =IFERROR(VLOOKUP($B6,'ТСА Кубок'!$E$4:$I$50,'ТСА Кубок'!$D$2,0),"-") -> 43 | F6: =IFERROR(VLOOKUP($B6,ФФП.Классика!$E$4:$I$46,ФФП.Классика!$D$2,0),"-") -> 56 | G6: =IFERROR(VLOOKUP($B6,ФФП.счет!$E$4:$I$54,ФФП.счет!$D$2,0),"-") -> 22 | H6: =IFERROR(VLOOKUP($B6,КубокФФП!$E$4:$I$50,КубокФФП!$D$2,0),"-") -> - | I6: =IFERROR(VLOOKUP($B6,Спартакиада!$E$4:$I$50,Спартакиада!$D$2,0),"-") -> 94 | J6: =IFERROR(VLOOKUP($B6,Торпедо!$E$4:$I$50,Торпедо!$D$2,0),"-") -> - | K6: =IFERROR(VLOOKUP(B6,'Гран-При ТнП'!$E$4:$I$50,'Гран-При ТнП'!$D$2,0),"-") -> 106 | L6: =IFERROR(VLOOKUP($B6,'ОТ Гран-При'!$E$4:$I$50,'ОТ Гран-При'!$D$2,0),"-") -> - | M6: =IFERROR(VLOOKUP($B6,'Кубок Лева'!$E$4:$I$50,'Кубок Лева'!$D$2,0),"-") -> 18 | N6: =10-COUNTIF(D6:M6,"-") -> 7
A7: 3 | B7: Профессионалы прогноза | C7: =IFERROR(LARGE(D7:M7,1),0)+IFERROR(LARGE(D7:M7,2),0)+IFERROR(LARGE(D7:M7,3),0)+IFERROR(LARGE(D7:M7,4),0)+IFERROR(LARGE(D7:M7,5),0)+IFERROR(LARGE(D7:M7,6),0)+IFERROR(LARGE(D7:M7,7),0) -> 299 | D7: =IFERROR(VLOOKUP($B7,ТСА!$E$4:$I$52,ТСА!$D$2,0),"-") -> 87 | E7: =IFERROR(VLOOKUP($B7,'ТСА Кубок'!$E$4:$I$50,'ТСА Кубок'!$D$2,0),"-") -> 46 | F7: =IFERROR(VLOOKUP($B7,ФФП.Классика!$E$4:$I$46,ФФП.Классика!$D$2,0),"-") -> 10 | G7: =IFERROR(VLOOKUP($B7,ФФП.счет!$E$4:$I$54,ФФП.счет!$D$2,0),"-") -> 18 | H7: =IFERROR(VLOOKUP($B7,КубокФФП!$E$4:$I$50,КубокФФП!$D$2,0),"-") -> - | I7: =IFERROR(VLOOKUP($B7,Спартакиада!$E$4:$I$50,Спартакиада!$D$2,0),"-") -> 10 | J7: =IFERROR(VLOOKUP($B7,Торпедо!$E$4:$I$50,Торпедо!$D$2,0),"-") -> 13 | K7: =IFERROR(VLOOKUP(B7,'Гран-При ТнП'!$E$4:$I$50,'Гран-При ТнП'!$D$2,0),"-") -> 115 | L7: =IFERROR(VLOOKUP($B7,'ОТ Гран-При'!$E$4:$I$50,'ОТ Гран-При'!$D$2,0),"-") -> - | M7: =IFERROR(VLOOKUP($B7,'Кубок Лева'!$E$4:$I$50,'Кубок Лева'!$D$2,0),"-") -> 4 | N7: =10-COUNTIF(D7:M7,"-") -> 8
A8: 4 | B8: FC NOROC | C8: =IFERROR(LARGE(D8:M8,1),0)+IFERROR(LARGE(D8:M8,2),0)+IFERROR(LARGE(D8:M8,3),0)+IFERROR(LARGE(D8:M8,4),0)+IFERROR(LARGE(D8:M8,5),0)+IFERROR(LARGE(D8:M8,6),0)+IFERROR(LARGE(D8:M8,7),0) -> 299 | D8: =IFERROR(VLOOKUP($B8,ТСА!$E$4:$I$52,ТСА!$D$2,0),"-") -> 103 | E8: =IFERROR(VLOOKUP($B8,'ТСА Кубок'!$E$4:$I$50,'ТСА Кубок'!$D$2,0),"-") -> 26 | F8: =IFERROR(VLOOKUP($B8,ФФП.Классика!$E$4:$I$46,ФФП.Классика!$D$2,0),"-") -> 15 | G8: =IFERROR(VLOOKUP($B8,ФФП.счет!$E$4:$I$54,ФФП.счет!$D$2,0),"-") -> - | H8: =IFERROR(VLOOKUP($B8,КубокФФП!$E$4:$I$50,КубокФФП!$D$2,0),"-") -> - | I8: =IFERROR(VLOOKUP($B8,Спартакиада!$E$4:$I$50,Спартакиада!$D$2,0),"-") -> 101 | J8: =IFERROR(VLOOKUP($B8,Торпедо!$E$4:$I$50,Торпедо!$D$2,0),"-") -> 19 | K8: =IFERROR(VLOOKUP(B8,'Гран-При ТнП'!$E$4:$I$50,'Гран-При ТнП'!$D$2,0),"-") -> 10 | L8: =IFERROR(VLOOKUP($B8,'ОТ Гран-При'!$E$4:$I$50,'ОТ Гран-При'!$D$2,0),"-") -> - | M8: =IFERROR(VLOOKUP($B8,'Кубок Лева'!$E$4:$I$50,'Кубок Лева'!$D$2,0),"-") -> 25 | N8: =10-COUNTIF(D8:M8,"-") -> 7
A9: 5 | B9: КФП "Арсенал" | C9: =IFERROR(LARGE(D9:M9,1),0)+IFERROR(LARGE(D9:M9,2),0)+IFERROR(LARGE(D9:M9,3),0)+IFERROR(LARGE(D9:M9,4),0)+IFERROR(LARGE(D9:M9,5),0)+IFERROR(LARGE(D9:M9,6),0)+IFERROR(LARGE(D9:M9,7),0) -> 293 | D9: =IFERROR(VLOOKUP($B9,ТСА!$E$4:$I$52,ТСА!$D$2,0),"-") -> 65 | E9: =IFERROR(VLOOKUP($B9,'ТСА Кубок'!$E$4:$I$50,'ТСА Кубок'!$D$2,0),"-") -> 17 | F9: =IFERROR(VLOOKUP($B9,ФФП.Классика!$E$4:$I$46,ФФП.Классика!$D$2,0),"-") -> 76 | G9: =IFERROR(VLOOKUP($B9,ФФП.счет!$E$4:$I$54,ФФП.счет!$D$2,0),"-") -> 8 | H9: =IFERROR(VLOOKUP($B9,КубокФФП!$E$4:$I$50,КубокФФП!$D$2,0),"-") -> - | I9: =IFERROR(VLOOKUP($B9,Спартакиада!$E$4:$I$50,Спартакиада!$D$2,0),"-") -> 65 | J9: =IFERROR(VLOOKUP($B9,Торпедо!$E$4:$I$50,Торпедо!$D$2,0),"-") -> - | K9: =IFERROR(VLOOKUP(B9,'Гран-При ТнП'!$E$4:$I$50,'Гран-При ТнП'!$D$2,0),"-") -> 62 | L9: =IFERROR(VLOOKUP($B9,'ОТ Гран-При'!$E$4:$I$50,'ОТ Гран-При'!$D$2,0),"-") -> - | M9: =IFERROR(VLOOKUP($B9,'Кубок Лева'!$E$4:$I$50,'Кубок Лева'!$D$2,0),"-") -> - | N9: =10-COUNTIF(D9:M9,"-") -> 6
A10: 6 | B10: СФП Football.By | C10: =IFERROR(LARGE(D10:M10,1),0)+IFERROR(LARGE(D10:M10,2),0)+IFERROR(LARGE(D10:M10,3),0)+IFERROR(LARGE(D10:M10,4),0)+IFERROR(LARGE(D10:M10,5),0)+IFERROR(LARGE(D10:M10,6),0)+IFERROR(LARGE(D10:M10,7),0) -> 267 | D10: =IFERROR(VLOOKUP($B10,ТСА!$E$4:$I$52,ТСА!$D$2,0),"-") -> 7 | E10: =IFERROR(VLOOKUP($B10,'ТСА Кубок'!$E$4:$I$50,'ТСА Кубок'!$D$2,0),"-") -> 17 | F10: =IFERROR(VLOOKUP($B10,ФФП.Классика!$E$4:$I$46,ФФП.Классика!$D$2,0),"-") -> 10 | G10: =IFERROR(VLOOKUP($B10,ФФП.счет!$E$4:$I$54,ФФП.счет!$D$2,0),"-") -> 53 | H10: =IFERROR(VLOOKUP($B10,КубокФФП!$E$4:$I$50,КубокФФП!$D$2,0),"-") -> - | I10: =IFERROR(VLOOKUP($B10,Спартакиада!$E$4:$I$50,Спартакиада!$D$2,0),"-") -> 44 | J10: =IFERROR(VLOOKUP($B10,Торпедо!$E$4:$I$50,Торпедо!$D$2,0),"-") -> - | K10: =IFERROR(VLOOKUP(B10,'Гран-При ТнП'!$E$4:$I$50,'Гран-При ТнП'!$D$2,0),"-") -> 98 | L10: =IFERROR(VLOOKUP($B10,'ОТ Гран-При'!$E$4:$I$50,'ОТ Гран-При'!$D$2,0),"-") -> - | M10: =IFERROR(VLOOKUP($B10,'Кубок Лева'!$E$4:$I$50,'Кубок Лева'!$D$2,0),"-") -> 38 | N10: =10-COUNTIF(D10:M10,"-") -> 7
A11: 7 | B11: АСП "Погоня" | C11: =IFERROR(LARGE(D11:M11,1),0)+IFERROR(LARGE(D11:M11,2),0)+IFERROR(LARGE(D11:M11,3),0)+IFERROR(LARGE(D11:M11,4),0)+IFERROR(LARGE(D11:M11,5),0)+IFERROR(LARGE(D11:M11,6),0)+IFERROR(LARGE(D11:M11,7),0) -> 254 | D11: =IFERROR(VLOOKUP($B11,ТСА!$E$4:$I$52,ТСА!$D$2,0),"-") -> 12 | E11: =IFERROR(VLOOKUP($B11,'ТСА Кубок'!$E$4:$I$50,'ТСА Кубок'!$D$2,0),"-") -> 17 | F11: =IFERROR(VLOOKUP($B11,ФФП.Классика!$E$4:$I$46,ФФП.Классика!$D$2,0),"-") -> 30 | G11: =IFERROR(VLOOKUP($B11,ФФП.счет!$E$4:$I$54,ФФП.счет!$D$2,0),"-") -> 34 | H11: =IFERROR(VLOOKUP($B11,КубокФФП!$E$4:$I$50,КубокФФП!$D$2,0),"-") -> - | I11: =IFERROR(VLOOKUP($B11,Спартакиада!$E$4:$I$50,Спартакиада!$D$2,0),"-") -> 59 | J11: =IFERROR(VLOOKUP($B11,Торпедо!$E$4:$I$50,Торпедо!$D$2,0),"-") -> 34 | K11: =IFERROR(VLOOKUP(B11,'Гран-При ТнП'!$E$4:$I$50,'Гран-При ТнП'!$D$2,0),"-") -> 35 | L11: =IFERROR(VLOOKUP($B11,'ОТ Гран-При'!$E$4:$I$50,'ОТ Гран-При'!$D$2,0),"-") -> - | M11: =IFERROR(VLOOKUP($B11,'Кубок Лева'!$E$4:$I$50,'Кубок Лева'!$D$2,0),"-") -> 45 | N11: =10-COUNTIF(D11:M11,"-") -> 8
A12: 8 | B12: КЛФП "Харьков" | C12: =IFERROR(LARGE(D12:M12,1),0)+IFERROR(LARGE(D12:M12,2),0)+IFERROR(LARGE(D12:M12,3),0)+IFERROR(LARGE(D12:M12,4),0)+IFERROR(LARGE(D12:M12,5),0)+IFERROR(LARGE(D12:M12,6),0)+IFERROR(LARGE(D12:M12,7),0) -> 237 | D12: =IFERROR(VLOOKUP($B12,ТСА!$E$4:$I$52,ТСА!$D$2,0),"-") -> 48 | E12: =IFERROR(VLOOKUP($B12,'ТСА Кубок'!$E$4:$I$50,'ТСА Кубок'!$D$2,0),"-") -> 26 | F12: =IFERROR(VLOOKUP($B12,ФФП.Классика!$E$4:$I$46,ФФП.Классика!$D$2,0),"-") -> - | G12: =IFERROR(VLOOKUP($B12,ФФП.счет!$E$4:$I$54,ФФП.счет!$D$2,0),"-") -> 15 | H12: =IFERROR(VLOOKUP($B12,КубокФФП!$E$4:$I$50,КубокФФП!$D$2,0),"-") -> - | I12: =IFERROR(VLOOKUP($B12,Спартакиада!$E$4:$I$50,Спартакиада!$D$2,0),"-") -> 81 | J12: =IFERROR(VLOOKUP($B12,Торпедо!$E$4:$I$50,Торпедо!$D$2,0),"-") -> - | K12: =IFERROR(VLOOKUP(B12,'Гран-При ТнП'!$E$4:$I$50,'Гран-При ТнП'!$D$2,0),"-") -> 46 | L12: =IFERROR(VLOOKUP($B12,'ОТ Гран-При'!$E$4:$I$50,'ОТ Гран-При'!$D$2,0),"-") -> - | M12: =IFERROR(VLOOKUP($B12,'Кубок Лева'!$E$4:$I$50,'Кубок Лева'!$D$2,0),"-") -> 21 | N12: =10-COUNTIF(D12:M12,"-") -> 6
A13: 9 | B13: КСП "Феникс" | C13: =IFERROR(LARGE(D13:M13,1),0)+IFERROR(LARGE(D13:M13,2),0)+IFERROR(LARGE(D13:M13,3),0)+IFERROR(LARGE(D13:M13,4),0)+IFERROR(LARGE(D13:M13,5),0)+IFERROR(LARGE(D13:M13,6),0)+IFERROR(LARGE(D13:M13,7),0) -> 208 | D13: =IFERROR(VLOOKUP($B13,ТСА!$E$4:$I$52,ТСА!$D$2,0),"-") -> 76 | E13: =IFERROR(VLOOKUP($B13,'ТСА Кубок'!$E$4:$I$50,'ТСА Кубок'!$D$2,0),"-") -> 26 | F13: =IFERROR(VLOOKUP($B13,ФФП.Классика!$E$4:$I$46,ФФП.Классика!$D$2,0),"-") -> 45 | G13: =IFERROR(VLOOKUP($B13,ФФП.счет!$E$4:$I$54,ФФП.счет!$D$2,0),"-") -> 4 | H13: =IFERROR(VLOOKUP($B13,КубокФФП!$E$4:$I$50,КубокФФП!$D$2,0),"-") -> - | I13: =IFERROR(VLOOKUP($B13,Спартакиада!$E$4:$I$50,Спартакиада!$D$2,0),"-") -> 28 | J13: =IFERROR(VLOOKUP($B13,Торпедо!$E$4:$I$50,Торпедо!$D$2,0),"-") -> - | K13: =IFERROR(VLOOKUP(B13,'Гран-При ТнП'!$E$4:$I$50,'Гран-При ТнП'!$D$2,0),"-") -> 29 | L13: =IFERROR(VLOOKUP($B13,'ОТ Гран-При'!$E$4:$I$50,'ОТ Гран-При'!$D$2,0),"-") -> - | M13: =IFERROR(VLOOKUP($B13,'Кубок Лева'!$E$4:$I$50,'Кубок Лева'!$D$2,0),"-") -> - | N13: =10-COUNTIF(D13:M13,"-") -> 6
A14: 10 | B14: EXE | C14: =IFERROR(LARGE(D14:M14,1),0)+IFERROR(LARGE(D14:M14,2),0)+IFERROR(LARGE(D14:M14,3),0)+IFERROR(LARGE(D14:M14,4),0)+IFERROR(LARGE(D14:M14,5),0)+IFERROR(LARGE(D14:M14,6),0)+IFERROR(LARGE(D14:M14,7),0) -> 199 | D14: =IFERROR(VLOOKUP($B14,ТСА!$E$4:$I$52,ТСА!$D$2,0),"-") -> 18 | E14: =IFERROR(VLOOKUP($B14,'ТСА Кубок'!$E$4:$I$50,'ТСА Кубок'!$D$2,0),"-") -> 17 | F14: =IFERROR(VLOOKUP($B14,ФФП.Классика!$E$4:$I$46,ФФП.Классика!$D$2,0),"-") -> 50 | G14: =IFERROR(VLOOKUP($B14,ФФП.счет!$E$4:$I$54,ФФП.счет!$D$2,0),"-") -> 16 | H14: =IFERROR(VLOOKUP($B14,КубокФФП!$E$4:$I$50,КубокФФП!$D$2,0),"-") -> - | I14: =IFERROR(VLOOKUP($B14,Спартакиада!$E$4:$I$50,Спартакиада!$D$2,0),"-") -> 19 | J14: =IFERROR(VLOOKUP($B14,Торпедо!$E$4:$I$50,Торпедо!$D$2,0),"-") -> 29 | K14: =IFERROR(VLOOKUP(B14,'Гран-При ТнП'!$E$4:$I$50,'Гран-При ТнП'!$D$2,0),"-") -> 50 | L14: =IFERROR(VLOOKUP($B14,'ОТ Гран-При'!$E$4:$I$50,'ОТ Гран-При'!$D$2,0),"-") -> 8 | M14: =IFERROR(VLOOKUP($B14,'Кубок Лева'!$E$4:$I$50,'Кубок Лева'!$D$2,0),"-") -> 6 | N14: =10-COUNTIF(D14:M14,"-") -> 9
A15: 11 | B15: КФП Mont Blanc | C15: =IFERROR(LARGE(D15:M15,1),0)+IFERROR(LARGE(D15:M15,2),0)+IFERROR(LARGE(D15:M15,3),0)+IFERROR(LARGE(D15:M15,4),0)+IFERROR(LARGE(D15:M15,5),0)+IFERROR(LARGE(D15:M15,6),0)+IFERROR(LARGE(D15:M15,7),0) -> 199 | D15: =IFERROR(VLOOKUP($B15,ТСА!$E$4:$I$52,ТСА!$D$2,0),"-") -> 60 | E15: =IFERROR(VLOOKUP($B15,'ТСА Кубок'!$E$4:$I$50,'ТСА Кубок'!$D$2,0),"-") -> 26 | F15: =IFERROR(VLOOKUP($B15,ФФП.Классика!$E$4:$I$46,ФФП.Классика!$D$2,0),"-") -> 21 | G15: =IFERROR(VLOOKUP($B15,ФФП.счет!$E$4:$I$54,ФФП.счет!$D$2,0),"-") -> 0 | H15: =IFERROR(VLOOKUP($B15,КубокФФП!$E$4:$I$50,КубокФФП!$D$2,0),"-") -> - | I15: =IFERROR(VLOOKUP($B15,Спартакиада!$E$4:$I$50,Спартакиада!$D$2,0),"-") -> 76 | J15: =IFERROR(VLOOKUP($B15,Торпедо!$E$4:$I$50,Торпедо!$D$2,0),"-") -> 7 | K15: =IFERROR(VLOOKUP(B15,'Гран-При ТнП'!$E$4:$I$50,'Гран-При ТнП'!$D$2,0),"-") -> - | L15: =IFERROR(VLOOKUP($B15,'ОТ Гран-При'!$E$4:$I$50,'ОТ Гран-При'!$D$2,0),"-") -> - | M15: =IFERROR(VLOOKUP($B15,'Кубок Лева'!$E$4:$I$50,'Кубок Лева'!$D$2,0),"-") -> 9 | N15: =10-COUNTIF(D15:M15,"-") -> 7
A16: 12 | B16: ОЛФП Одесса | C16: =IFERROR(LARGE(D16:M16,1),0)+IFERROR(LARGE(D16:M16,2),0)+IFERROR(LARGE(D16:M16,3),0)+IFERROR(LARGE(D16:M16,4),0)+IFERROR(LARGE(D16:M16,5),0)+IFERROR(LARGE(D16:M16,6),0)+IFERROR(LARGE(D16:M16,7),0) -> 196 | D16: =IFERROR(VLOOKUP($B16,ТСА!$E$4:$I$52,ТСА!$D$2,0),"-") -> 28 | E16: =IFERROR(VLOOKUP($B16,'ТСА Кубок'!$E$4:$I$50,'ТСА Кубок'!$D$2,0),"-") -> 17 | F16: =IFERROR(VLOOKUP($B16,ФФП.Классика!$E$4:$I$46,ФФП.Классика!$D$2,0),"-") -> 61 | G16: =IFERROR(VLOOKUP($B16,ФФП.счет!$E$4:$I$54,ФФП.счет!$D$2,0),"-") -> 46 | H16: =IFERROR(VLOOKUP($B16,КубокФФП!$E$4:$I$50,КубокФФП!$D$2,0),"-") -> - | I16: =IFERROR(VLOOKUP($B16,Спартакиада!$E$4:$I$50,Спартакиада!$D$2,0),"-") -> 28 | J16: =IFERROR(VLOOKUP($B16,Торпедо!$E$4:$I$50,Торпедо!$D$2,0),"-") -> 5 | K16: =IFERROR(VLOOKUP(B16,'Гран-При ТнП'!$E$4:$I$50,'Гран-При ТнП'!$D$2,0),"-") -> - | L16: =IFERROR(VLOOKUP($B16,'ОТ Гран-При'!$E$4:$I$50,'ОТ Гран-При'!$D$2,0),"-") -> - | M16: =IFERROR(VLOOKUP($B16,'Кубок Лева'!$E$4:$I$50,'Кубок Лева'!$D$2,0),"-") -> 11 | N16: =10-COUNTIF(D16:M16,"-") -> 7
... A83: 78 | B83: UEFA.RU | C83: =IFERROR(LARGE(D83:M83,1),0)+IFERROR(LARGE(D83:M83,2),0)+IFERROR(LARGE(D83:M83,3),0)+IFERROR(LARGE(D83:M83,4),0)+IFERROR(LARGE(D83:M83,5),0)+IFERROR(LARGE(D83:M83,6),0)+IFERROR(LARGE(D83:M83,7),0) -> 0 | D83: =IFERROR(VLOOKUP($B83,ТСА!$E$4:$I$52,ТСА!$D$2,0),"-") -> - | E83: =IFERROR(VLOOKUP($B83,'ТСА Кубок'!$E$4:$I$50,'ТСА Кубок'!$D$2,0),"-") -> - | F83: =IFERROR(VLOOKUP($B83,ФФП.Классика!$E$4:$I$46,ФФП.Классика!$D$2,0),"-") -> - | G83: =IFERROR(VLOOKUP($B83,ФФП.счет!$E$4:$I$54,ФФП.счет!$D$2,0),"-") -> - | H83: =IFERROR(VLOOKUP($B83,КубокФФП!$E$4:$I$50,КубокФФП!$D$2,0),"-") -> - | I83: =IFERROR(VLOOKUP($B83,Спартакиада!$E$4:$I$50,Спартакиада!$D$2,0),"-") -> - | J83: =IFERROR(VLOOKUP($B83,Торпедо!$E$4:$I$50,Торпедо!$D$2,0),"-") -> - | K83: =IFERROR(VLOOKUP(B83,'Гран-При ТнП'!$E$4:$I$50,'Гран-При ТнП'!$D$2,0),"-") -> - | L83: =IFERROR(VLOOKUP($B83,'ОТ Гран-При'!$E$4:$I$50,'ОТ Гран-При'!$D$2,0),"-") -> - | M83: =IFERROR(VLOOKUP($B83,'Кубок Лева'!$E$4:$I$50,'Кубок Лева'!$D$2,0),"-") -> - | N83: =10-COUNTIF(D83:M83,"-") -> 0

Sheet Гран-При ТнП
A1: Футболпрогноз. Гран-При 2010-2011. Финал. | E1: Положение команд в турнире
A2: Турнир текущего сезона сыгран | C2: Да | D2: =IF(C2="Да",5,3) -> 5 | F2: Гран-При сезона 2009/2010 | H2: Гран-При сезона 2010/2011
A3: Параметры текущего сезона | F3: Место | G3: Очки | H3: Место | I3: Очки
A4: Количество команд | B4: 32 | C4: =IF(B4>29,2,IF(B4>23,3,IF(B4>19,4,IF(B4>14,5,IF(B4>12,6,IF(B4>10,7,IF(B4>8,8,IF(B4>6,9,10)))))))) -> 2 | E4: Северное Сияние | F4: 1 | G4: 116 | H4: 11 | I4: =IF(H4="","-",ROUNDUP(IFERROR(VLOOKUP(H4,Парапетры!$G$4:$P$77,$C$4,FALSE),0)*$C$18,0)) -> 54 | O4: 0.05
E5: Профессионалы прогноза | F5: 2 | G5: 107 | H5: 1 | I5: =IF(H5="","-",ROUNDUP(IFERROR(VLOOKUP(H5,Парапетры!$G$4:$P$77,$C$4,FALSE),0)*$C$18,0)) -> 115 | O5: 0.01
A6: Название параметра | B6: Оценка | C6: Коэфф. | E6: Красно-Белый Израиль (КБИ) | F6: 3 | G6: 99 | H6: 2 | I6: =IF(H6="","-",ROUNDUP(IFERROR(VLOOKUP(H6,Парапетры!$G$4:$P$77,$C$4,FALSE),0)*$C$18,0)) -> 106 | O6: 0.01
A7: Автоматизация | B7: Да | C7: =IF(B7="Да",Парапетры!C2,0) -> 0.1 | E7: FC Noroc | F7: 4 | G7: 91 | H7: 28 | I7: =IF(H7="","-",ROUNDUP(IFERROR(VLOOKUP(H7,Парапетры!$G$4:$P$77,$C$4,FALSE),0)*$C$18,0)) -> 10
A8: Замены | B8: Да | C8: =IF(B8="Да",Парапетры!C3,0) -> 0.02 | E8: Бавария | F8: 5 | G8: 85 | H8: 25 | I8: =IF(H8="","-",ROUNDUP(IFERROR(VLOOKUP(H8,Парапетры!$G$4:$P$77,$C$4,FALSE),0)*$C$18,0)) -> 16 | O8: 0.01
A9: Корреляция | B9: Да | C9: =IF(B9="Да",Парапетры!C4,0) -> 0.02 | E9: Милан | F9: 6 | G9: 80 | H9: 15 | I9: =IF(H9="","-",ROUNDUP(IFERROR(VLOOKUP(H9,Парапетры!$G$4:$P$77,$C$4,FALSE),0)*$C$18,0)) -> 39 | O9: 0.01
A10: Карточки | B10: Нет | C10: =IF(B10="Да",Парапетры!C5,0) -> 0 | E10: КЛФП "Харьков" | F10: 7 | G10: 74 | H10: 13 | I10: =IF(H10="","-",ROUNDUP(IFERROR(VLOOKUP(H10,Парапетры!$G$4:$P$77,$C$4,FALSE),0)*$C$18,0)) -> 46 | O10: 0.05
A11: Трансфертные окна | B11: Да | C11: =IF(B11="Да",Парапетры!C6,0) -> 0.02 | E11: ФК "Черноморец" | F11: 8 | G11: 68 | H11: 21 | I11: =IF(H11="","-",ROUNDUP(IFERROR(VLOOKUP(H11,Парапетры!$G$4:$P$77,$C$4,FALSE),0)*$C$18,0)) -> 23 | O11: 0.03
A12: Система прогнозирования1 | B12: Да | C12: =IF(B12="Да",Парапетры!C7,0) -> 0.02 | E12: СКА (Ростов-на-Дону) | F12: 9 | G12: 62 | H12: 24 | I12: =IF(H12="","-",ROUNDUP(IFERROR(VLOOKUP(H12,Парапетры!$G$4:$P$77,$C$4,FALSE),0)*$C$18,0)) -> 18 | O12: 0.02
A13: Организация | B13: 5 | C13: =B13*Парапетры!C8 -> 0.15 | E13: Kanonir.Com | F13: 10 | G13: 58 | H13: 4 | I13: =IF(H13="","-",ROUNDUP(IFERROR(VLOOKUP(H13,Парапетры!$G$4:$P$77,$C$4,FALSE),0)*$C$18,0)) -> 91 | N13: 8 | O13: 0.015
A14: Пресса, пресс-конференции, отчеты. | B14: 4 | C14: =B14*Парапетры!C9 -> 0.06 | E14: АСП "Погоня" | F14: 11 | G14: 55 | H14: 16 | I14: =IF(H14="","-",ROUNDUP(IFERROR(VLOOKUP(H14,Парапетры!$G$4:$P$77,$C$4,FALSE),0)*$C$18,0)) -> 35 | O14: =SUM(O4:O12)+N13*O13+1 -> 1.31
A15: Статистика | B15: 5 | C15: =B15*Парапетры!C10 -> 0.075 | E15: VFLP.RU | F15: 12 | G15: 51 | H15: 8 | I15: =IF(H15="","-",ROUNDUP(IFERROR(VLOOKUP(H15,Парапетры!$G$4:$P$77,$C$4,FALSE),0)*$C$18,0)) -> 68
A16: Количество команд из первый 10 рейтинга на начало турнира | B16: 9 | C16: =B16*Парапетры!C11 -> 0.45 | E16: Фениксы Урана | F16: 13 | G16: 47 | H16: 30 | I16: =IF(H16="","-",ROUNDUP(IFERROR(VLOOKUP(H16,Парапетры!$G$4:$P$77,$C$4,FALSE),0)*$C$18,0)) -> 6
E17: УкрФутбол | F17: 14 | G17: 43 | H17: 32 | I17: =IF(H17="","-",ROUNDUP(IFERROR(VLOOKUP(H17,Парапетры!$G$4:$P$77,$C$4,FALSE),0)*$C$18,0)) -> 2
A18: Итого поправочный коэффициент | C18: =SUM(C7:C17)+1 -> 1.915 | E18: Russian Roulette | F18: 15 | G18: 39 | H18: 17 | I18: =IF(H18="","-",ROUNDUP(IFERROR(VLOOKUP(H18,Парапетры!$G$4:$P$77,$C$4,FALSE),0)*$C$18,0)) -> 31
E19: КЛФ "Чемпион" | F19: 16 | G19: 35 | H19: 7 | I19: =IF(H19="","-",ROUNDUP(IFERROR(VLOOKUP(H19,Парапетры!$G$4:$P$77,$C$4,FALSE),0)*$C$18,0)) -> 73
A20: Максимальное количество очков за турнир | C20: =MAX(I4:I40) -> 115 | E20: Bundesteam | F20: 17 | G20: 31 | H20: 23 | I20: =IF(H20="","-",ROUNDUP(IFERROR(VLOOKUP(H20,Парапетры!$G$4:$P$77,$C$4,FALSE),0)*$C$18,0)) -> 20
A21: Классность турнира исходя из кол очков | C21: =IF(C20>=Парапетры!C16,"Премьер",IF(C20>=Парапетры!C17,"A",IF(C20>=Парапетры!C18,"B",IF(C20>=Парапетры!C19,"C","D")))) -> Премьер | E21: Волга | F21: 18 | G21: 29 | I21: =IF(H21="","-",ROUNDUP(IFERROR(VLOOKUP(H21,Парапетры!$G$4:$P$77,$C$4,FALSE),0)*$C$18,0)) -> -
A22: Классность прошлогоднего турнира | C22: Премьер | E22: 12ua | F22: 19 | G22: 30 | I22: =IF(H22="","-",ROUNDUP(IFERROR(VLOOKUP(H22,Парапетры!$G$4:$P$77,$C$4,FALSE),0)*$C$18,0)) -> -
E23: RED ARMY | F23: 20 | G23: 26 | H23: 14 | I23: =IF(H23="","-",ROUNDUP(IFERROR(VLOOKUP(H23,Парапетры!$G$4:$P$77,$C$4,FALSE),0)*$C$18,0)) -> 43
A24: 1 - Ставится "Да", если турнир является базовым по этой системе | E24: МКСП "Альянс" | F24: 21 | G24: 24 | H24: 29 | I24: =IF(H24="","-",ROUNDUP(IFERROR(VLOOKUP(H24,Парапетры!$G$4:$P$77,$C$4,FALSE),0)*$C$18,0)) -> 8
E25: ВФЛ КБК | F25: 22 | G25: 22 | H25: 5 | I25: =IF(H25="","-",ROUNDUP(IFERROR(VLOOKUP(H25,Парапетры!$G$4:$P$77,$C$4,FALSE),0)*$C$18,0)) -> 85
E26: Юпитер | F26: 23 | G26: 20 | H26: 6 | I26: =IF(H26="","-",ROUNDUP(IFERROR(VLOOKUP(H26,Парапетры!$G$4:$P$77,$C$4,FALSE),0)*$C$18,0)) -> 79
E27: КФК "ТОТО на ПЕСКАХ" | F27: 24 | G27: 18 | H27: 26 | I27: =IF(H27="","-",ROUNDUP(IFERROR(VLOOKUP(H27,Парапетры!$G$4:$P$77,$C$4,FALSE),0)*$C$18,0)) -> 14
E28: СФП Football.By | F28: 25 | G28: 16 | H28: 3 | I28: =IF(H28="","-",ROUNDUP(IFERROR(VLOOKUP(H28,Парапетры!$G$4:$P$77,$C$4,FALSE),0)*$C$18,0)) -> 98
E29: КСП "Феникс" | F29: 26 | G29: 14 | H29: 18 | I29: =IF(H29="","-",ROUNDUP(IFERROR(VLOOKUP(H29,Парапетры!$G$4:$P$77,$C$4,FALSE),0)*$C$18,0)) -> 29
E30: Best Football & Partizans | F30: 27 | G30: 12 | H30: 10 | I30: =IF(H30="","-",ROUNDUP(IFERROR(VLOOKUP(H30,Парапетры!$G$4:$P$77,$C$4,FALSE),0)*$C$18,0)) -> 58
E31: Женская сборная | F31: 28 | G31: 10 | H31: 19 | I31: =IF(H31="","-",ROUNDUP(IFERROR(VLOOKUP(H31,Парапетры!$G$4:$P$77,$C$4,FALSE),0)*$C$18,0)) -> 27
E32: FC Stadium33.ru | F32: 29 | G32: 8 | H32: 22 | I32: =IF(H32="","-",ROUNDUP(IFERROR(VLOOKUP(H32,Парапетры!$G$4:$P$77,$C$4,FALSE),0)*$C$18,0)) -> 22
E33: КФП "Арсенал" | F33: 30 | G33: 6 | H33: 9 | I33: =IF(H33="","-",ROUNDUP(IFERROR(VLOOKUP(H33,Парапетры!$G$4:$P$77,$C$4,FALSE),0)*$C$18,0)) -> 62
E34: Сборная Латвии | F34: 31 | G34: 4 | H34: 20 | I34: =IF(H34="","-",ROUNDUP(IFERROR(VLOOKUP(H34,Парапетры!$G$4:$P$77,$C$4,FALSE),0)*$C$18,0)) -> 25
E35: CHILE PEPPERS | F35: 32 | G35: 2 | I35: =IF(H35="","-",ROUNDUP(IFERROR(VLOOKUP(H35,Парапетры!$G$4:$P$77,$C$4,FALSE),0)*$C$18,0)) -> -
E36: EXE | G36: - | H36: 12 | I36: =IF(H36="","-",ROUNDUP(IFERROR(VLOOKUP(H36,Парапетры!$G$4:$P$77,$C$4,FALSE),0)*$C$18,0)) -> 50
E37: КСП Химик | G37: - | H37: 27 | I37: =IF(H37="","-",ROUNDUP(IFERROR(VLOOKUP(H37,Парапетры!$G$4:$P$77,$C$4,FALSE),0)*$C$18,0)) -> 12
E38: Сборная Мегаспорта | G38: - | H38: 31 | I38: =IF(H38="","-",ROUNDUP(IFERROR(VLOOKUP(H38,Парапетры!$G$4:$P$77,$C$4,FALSE),0)*$C$18,0)) -> 4
G39: - | I39: =IF(H39="","-",ROUNDUP(IFERROR(VLOOKUP(H39,Парапетры!$G$4:$P$77,$C$4,FALSE),0)*$C$18,0)) -> -
G40: - | I40: =IF(H40="","-",ROUNDUP(IFERROR(VLOOKUP(H40,Парапетры!$G$4:$P$77,$C$4,FALSE),0)*$C$18,0)) -> -

Sheet ОТ Гран-При
A1: Турнир сборных команд "Отборочный турнир ГП-2011" | E1: Положение команд в турнире
A2: Турнир текущего сезона сыгран | C2: Да | D2: =IF(C2="Да",5,3) -> 5 | F2: Турнир сборных команд "Отборочный турнир ГП-2010" | H2: Турнир сборных команд "Отборочный турнир ГП-2011"
A3: Параметры текущего сезона | F3: Место | G3: Очки | H3: Место | I3: Очки
A4: Количество команд | B4: 5 | C4: =IF(B4>29,2,IF(B4>23,3,IF(B4>19,4,IF(B4>14,5,IF(B4>12,6,IF(B4>10,7,IF(B4>8,8,IF(B4>6,9,10)))))))) -> 10 | E4: Best Football & Partizans | F4: 1 | G4: 15 | I4: =IF(H4="","-",ROUNDUP(IFERROR(VLOOKUP(H4,Парапетры!$G$4:$P$77,$C$4,FALSE),0)*$C$18,0)) -> -
E5: Сборная Мегаспорта | F5: 2 | G5: 10 | I5: =IF(H5="","-",ROUNDUP(IFERROR(VLOOKUP(H5,Парапетры!$G$4:$P$77,$C$4,FALSE),0)*$C$18,0)) -> -
A6: Название параметра | B6: Оценка | C6: Коэфф. | E6: Торпедо.ру | F6: 3 | G6: 8 | I6: =IF(H6="","-",ROUNDUP(IFERROR(VLOOKUP(H6,Парапетры!$G$4:$P$77,$C$4,FALSE),0)*$C$18,0)) -> -
A7: Автоматизация | B7: Да | C7: =IF(B7="Да",Парапетры!C2,0) -> 0.1 | E7: КФП Mont Blanc | F7: 4 | G7: 5 | I7: =IF(H7="","-",ROUNDUP(IFERROR(VLOOKUP(H7,Парапетры!$G$4:$P$77,$C$4,FALSE),0)*$C$18,0)) -> -
A8: Замены | B8: Да | C8: =IF(B8="Да",Парапетры!C3,0) -> 0.02 | E8: КСП Химик | F8: 5 | G8: 3 | H8: 2 | I8: =IF(H8="","-",ROUNDUP(IFERROR(VLOOKUP(H8,Парапетры!$G$4:$P$77,$C$4,FALSE),0)*$C$18,0)) -> 10
A9: Корреляция | B9: Да | C9: =IF(B9="Да",Парапетры!C4,0) -> 0.02 | E9: Сборная Латвии | G9: - | H9: 1 | I9: =IF(H9="","-",ROUNDUP(IFERROR(VLOOKUP(H9,Парапетры!$G$4:$P$77,$C$4,FALSE),0)*$C$18,0)) -> 15
A10: Карточки | B10: Нет | C10: =IF(B10="Да",Парапетры!C5,0) -> 0 | E10: EXE | G10: - | H10: 3 | I10: =IF(H10="","-",ROUNDUP(IFERROR(VLOOKUP(H10,Парапетры!$G$4:$P$77,$C$4,FALSE),0)*$C$18,0)) -> 8
A11: Трансфертные окна | B11: Нет | C11: =IF(B11="Да",Парапетры!C6,0) -> 0 | E11: ЛФЛА | G11: - | H11: 4 | I11: =IF(H11="","-",ROUNDUP(IFERROR(VLOOKUP(H11,Парапетры!$G$4:$P$77,$C$4,FALSE),0)*$C$18,0)) -> 5
A12: Система прогнозирования1 | B12: Нет | C12: =IF(B12="Да",Парапетры!C7,0) -> 0 | E12: КЛФП "Мордовия" | G12: - | H12: 5 | I12: =IF(H12="","-",ROUNDUP(IFERROR(VLOOKUP(H12,Парапетры!$G$4:$P$77,$C$4,FALSE),0)*$C$18,0)) -> 3
A13: Организация | B13: 5 | C13: =B13*Парапетры!C8 -> 0.15 | E13: СФП "CHILE PEPPERS" | G13: - | H13: 6 | I13: =IF(H13="","-",ROUNDUP(IFERROR(VLOOKUP(H13,Парапетры!$G$4:$P$77,$C$4,FALSE),0)*$C$18,0)) -> 2
A14: Пресса, пресс-конференции отчеты. | B14: 3 | C14: =B14*Парапетры!C9 -> 0.045
A15: Статистика | B15: 5 | C15: =B15*Парапетры!C10 -> 0.075
A16: Количество команд из первый 10 рейтинга на начало турнира | C16: =B16*Парапетры!C11 -> 0
A18: Итого поправочный коэффициент | C18: =SUM(C7:C17)+1 -> 1.41
A20: Максимальное количество очков за турнир | C20: =MAX(I4:I40) -> 15
A21: Классность турнира исходя из кол очков | C21: =IF(C20>=Парапетры!C16,"Премьер",IF(C20>=Парапетры!C17,"A",IF(C20>=Парапетры!C18,"B",IF(C20>=Парапетры!C19,"C","D")))) -> D
A22: Классность прошлогоднего турнира | C22: D
A24: 1 - Ставится "Да", если турнир является базовым по этой системе

Sheet Кубок Лева
A1: Турнир сборных команд "Кубок Лева" -2 | E1: Положение команд в турнире
A2: Турнир текущего сезона сыгран | C2: Да | D2: =IF(C2="Да",5,3) -> 5 | F2: "Кубок Лева" -1 | H2: "Кубок Лева" -2
A3: Параметры текущего сезона | F3: Место | G3: Очки | H3: Место | I3: Очки
A4: Количество команд | B4: 16 | C4: =IF(B4>29,2,IF(B4>23,3,IF(B4>19,4,IF(B4>14,5,IF(B4>12,6,IF(B4>10,7,IF(B4>8,8,IF(B4>6,9,10)))))))) -> 5 | E4: МКСП "Альянс" | G4: - | H4: 1 | I4: =IF(H4="","-",ROUNDUP(IFERROR(VLOOKUP(H4,Парапетры!$G$4:$P$77,$C$4,FALSE),0)*$C$18,0)) -> 52
E5: АСП "Погоня" | F5: 1 | G5: 25 | H5: 2 | I5: =IF(H5="","-",ROUNDUP(IFERROR(VLOOKUP(H5,Парапетры!$G$4:$P$77,$C$4,FALSE),0)*$C$18,0)) -> 45
A6: Название параметра | B6: Оценка | C6: Коэфф. | E6: СФП Football.By | F6: 10 | G6: 2 | H6: 3 | I6: =IF(H6="","-",ROUNDUP(IFERROR(VLOOKUP(H6,Парапетры!$G$4:$P$77,$C$4,FALSE),0)*$C$18,0)) -> 38
A7: Автоматизация | B7: Нет | C7: =IF(B7="Да",Парапетры!C2,0) -> 0 | E7: Сборная Мегаспорта | F7: 5 | G7: 10 | H7: 4 | I7: =IF(H7="","-",ROUNDUP(IFERROR(VLOOKUP(H7,Парапетры!$G$4:$P$77,$C$4,FALSE),0)*$C$18,0)) -> 33
A8: Замены | B8: Нет | C8: =IF(B8="Да",Парапетры!C3,0) -> 0 | E8: Торпедо.ру | F8: 9 | G8: 3 | H8: 5 | I8: =IF(H8="","-",ROUNDUP(IFERROR(VLOOKUP(H8,Парапетры!$G$4:$P$77,$C$4,FALSE),0)*$C$18,0)) -> 28
A9: Корреляция | B9: Нет | C9: =IF(B9="Да",Парапетры!C4,0) -> 0 | E9: FC NOROC | F9: 8 | G9: 5 | H9: 6 | I9: =IF(H9="","-",ROUNDUP(IFERROR(VLOOKUP(H9,Парапетры!$G$4:$P$77,$C$4,FALSE),0)*$C$18,0)) -> 25
A10: Карточки | B10: Нет | C10: =IF(B10="Да",Парапетры!C5,0) -> 0 | E10: КЛФП "Харьков" | G10: - | H10: 7 | I10: =IF(H10="","-",ROUNDUP(IFERROR(VLOOKUP(H10,Парапетры!$G$4:$P$77,$C$4,FALSE),0)*$C$18,0)) -> 21
A11: Трансфертные окна | B11: Нет | C11: =IF(B11="Да",Парапетры!C6,0) -> 0 | E11: Красно-Белый Израиль (КБИ) | G11: - | H11: 8 | I11: =IF(H11="","-",ROUNDUP(IFERROR(VLOOKUP(H11,Парапетры!$G$4:$P$77,$C$4,FALSE),0)*$C$18,0)) -> 18
A12: Система прогнозирования1 | B12: Да | C12: =IF(B12="Да",Парапетры!C7,0) -> 0.02 | E12: 7-40 | F12: 4 | G12: 13 | H12: 9 | I12: =IF(H12="","-",ROUNDUP(IFERROR(VLOOKUP(H12,Парапетры!$G$4:$P$77,$C$4,FALSE),0)*$C$18,0)) -> 14
A13: Организация | B13: 5 | C13: =B13*Парапетры!C8 -> 0.15 | E13: Best Football & Partizans | F13: 6 | G13: 7 | H13: 10 | I13: =IF(H13="","-",ROUNDUP(IFERROR(VLOOKUP(H13,Парапетры!$G$4:$P$77,$C$4,FALSE),0)*$C$18,0)) -> 13
A14: Пресса, пресс-конференции отчеты. | B14: 5 | C14: =B14*Парапетры!C9 -> 0.075 | E14: ОЛФП Одесса | G14: - | H14: 11 | I14: =IF(H14="","-",ROUNDUP(IFERROR(VLOOKUP(H14,Парапетры!$G$4:$P$77,$C$4,FALSE),0)*$C$18,0)) -> 11
A15: Статистика | B15: 5 | C15: =B15*Парапетры!C10 -> 0.075 | E15: КФП Mont Blanc | G15: - | H15: 12 | I15: =IF(H15="","-",ROUNDUP(IFERROR(VLOOKUP(H15,Парапетры!$G$4:$P$77,$C$4,FALSE),0)*$C$18,0)) -> 9
A16: Количество команд из первый 10 рейтинга на начало турнира | B16: 8 | C16: =B16*Парапетры!C11 -> 0.4 | E16: hsm97.ru | G16: - | H16: 13 | I16: =IF(H16="","-",ROUNDUP(IFERROR(VLOOKUP(H16,Парапетры!$G$4:$P$77,$C$4,FALSE),0)*$C$18,0)) -> 7
E17: EXE | F17: 7 | G17: 6 | H17: 14 | I17: =IF(H17="","-",ROUNDUP(IFERROR(VLOOKUP(H17,Парапетры!$G$4:$P$77,$C$4,FALSE),0)*$C$18,0)) -> 6
A18: Итого поправочный коэффициент | C18: =SUM(C7:C17)+1 -> 1.72 | E18: Профессионалы прогноза | F18: 2 | G18: 21 | H18: 15 | I18: =IF(H18="","-",ROUNDUP(IFERROR(VLOOKUP(H18,Парапетры!$G$4:$P$77,$C$4,FALSE),0)*$C$18,0)) -> 4
E19: CHILE PEPPERS | G19: - | H19: 16 | I19: =IF(H19="","-",ROUNDUP(IFERROR(VLOOKUP(H19,Парапетры!$G$4:$P$77,$C$4,FALSE),0)*$C$18,0)) -> 2
A20: Максимальное количество очков за турнир | C20: =MAX(I4:I40) -> 52 | E20: 12ua | F20: 3 | G20: 17 | I20: =IF(H20="","-",ROUNDUP(IFERROR(VLOOKUP(H20,Парапетры!$G$4:$P$77,$C$4,FALSE),0)*$C$18,0)) -> -
A21: Классность турнира исходя из кол очков | C21: =IF(C20>=Парапетры!C16,"Премьер",IF(C20>=Парапетры!C17,"A",IF(C20>=Парапетры!C18,"B",IF(C20>=Парапетры!C19,"C","D")))) -> C
A22: Классность прошлогоднего турнира | C22: D
A24: 1 - Ставится "Да", если турнир является базовым по этой системе

Sheet ТСА
A1: Турнир АЛЬЯНСА. Сезон 2010/11 | E1: Положение команд в турнире
A2: Турнир текущего сезона сыгран | C2: Да | D2: =IF(C2="Да",5,3) -> 5 | F2: Турнир АЛЬЯНСА. Сезон 2009/10 | H2: Турнир АЛЬЯНСА. Сезон 2010/11
A3: Параметры текущего сезона | F3: Место | G3: Очки | H3: Место | I3: Очки
A4: Количество команд | B4: 33 | C4: =IF(B4>29,2,IF(B4>23,3,IF(B4>19,4,IF(B4>14,5,IF(B4>12,6,IF(B4>10,7,IF(B4>8,8,IF(B4>6,9,10)))))))) -> 2 | E4: АСП "Погоня" | F4: 1 | G4: 108 | H4: 25-27 | I4: =IF(H4="","-",ROUNDUP(IFERROR(VLOOKUP(H4,Парапетры!$G$4:$P$77,$C$4,FALSE),0)*$C$18,0)) -> 12
E5: 7-40 | F5: 2 | G5: 99 | H5: 31-33 | I5: =IF(H5="","-",ROUNDUP(IFERROR(VLOOKUP(H5,Парапетры!$G$4:$P$77,$C$4,FALSE),0)*$C$18,0)) -> 2
A6: Название параметра | B6: Оценка | C6: Коэфф. | E6: ЛФЛА | F6: 3 | G6: 92 | H6: 19-21 | I6: =IF(H6="","-",ROUNDUP(IFERROR(VLOOKUP(H6,Парапетры!$G$4:$P$77,$C$4,FALSE),0)*$C$18,0)) -> 23
A7: Автоматизация | B7: Нет | C7: =IF(B7="Да",Парапетры!C2,0) -> 0 | E7: КЛФП "Харьков" | F7: 4 | G7: 85 | H7: 11 | I7: =IF(H7="","-",ROUNDUP(IFERROR(VLOOKUP(H7,Парапетры!$G$4:$P$77,$C$4,FALSE),0)*$C$18,0)) -> 48
A8: Замены | B8: Нет | C8: =IF(B8="Да",Парапетры!C3,0) -> 0 | E8: КФП Mont Blanc | F8: 5 | G8: 79 | H8: 8 | I8: =IF(H8="","-",ROUNDUP(IFERROR(VLOOKUP(H8,Парапетры!$G$4:$P$77,$C$4,FALSE),0)*$C$18,0)) -> 60
A9: Корреляция | B9: Нет | C9: =IF(B9="Да",Парапетры!C4,0) -> 0 | E9: Профессионалы прогноза | F9: 6 | G9: 74 | H9: 3 | I9: =IF(H9="","-",ROUNDUP(IFERROR(VLOOKUP(H9,Парапетры!$G$4:$P$77,$C$4,FALSE),0)*$C$18,0)) -> 87
A10: Карточки | B10: Да | C10: =IF(B10="Да",Парапетры!C5,0) -> 0.02 | E10: КФП "Арсенал" | F10: 7 | G10: 69 | H10: 7 | I10: =IF(H10="","-",ROUNDUP(IFERROR(VLOOKUP(H10,Парапетры!$G$4:$P$77,$C$4,FALSE),0)*$C$18,0)) -> 65
A11: Трансфертные окна | B11: Да | C11: =IF(B11="Да",Парапетры!C6,0) -> 0.02 | E11: Волга | F11: 8 | G11: 63 | H11: 25-27 | I11: =IF(H11="","-",ROUNDUP(IFERROR(VLOOKUP(H11,Парапетры!$G$4:$P$77,$C$4,FALSE),0)*$C$18,0)) -> 12
A12: Система прогнозирования1 | B12: Да | C12: =IF(B12="Да",Парапетры!C7,0) -> 0.02 | E12: Торпедо.ру | F12: 9 | G12: 58 | H12: 9 | I12: =IF(H12="","-",ROUNDUP(IFERROR(VLOOKUP(H12,Парапетры!$G$4:$P$77,$C$4,FALSE),0)*$C$18,0)) -> 55
A13: Организация | B13: 4 | C13: =B13*Парапетры!C8 -> 0.12 | E13: МКСП "Альянс" | F13: 10 | G13: 54 | H13: 2 | I13: =IF(H13="","-",ROUNDUP(IFERROR(VLOOKUP(H13,Парапетры!$G$4:$P$77,$C$4,FALSE),0)*$C$18,0)) -> 94
A14: Пресса, пресс-конференции отчеты. | C14: =B14*Парапетры!C9 -> 0 | E14: КСП Химик | F14: 11 | G14: 51 | H14: 10 | I14: =IF(H14="","-",ROUNDUP(IFERROR(VLOOKUP(H14,Парапетры!$G$4:$P$77,$C$4,FALSE),0)*$C$18,0)) -> 52
A15: Статистика | B15: 5 | C15: =B15*Парапетры!C10 -> 0.075 | E15: FC NOROC | F15: 12 | G15: 47 | H15: 1 | I15: =IF(H15="","-",ROUNDUP(IFERROR(VLOOKUP(H15,Парапетры!$G$4:$P$77,$C$4,FALSE),0)*$C$18,0)) -> 103
A16: Количество команд из первый 10 рейтинга на начало турнира | B16: 9 | C16: =B16*Парапетры!C11 -> 0.45 | E16: VOON.RU | F16: 13 | G16: 44 | I16: =IF(H16="","-",ROUNDUP(IFERROR(VLOOKUP(H16,Парапетры!$G$4:$P$77,$C$4,FALSE),0)*$C$18,0)) -> -
E17: СФП Football.By | F17: 14 | G17: 40 | H17: 28-30 | I17: =IF(H17="","-",ROUNDUP(IFERROR(VLOOKUP(H17,Парапетры!$G$4:$P$77,$C$4,FALSE),0)*$C$18,0)) -> 7
A18: Итого поправочный коэффициент | C18: =SUM(C7:C17)+1 -> 1.705 | E18: КФК "ТОТО на ПЕСКАХ" | F18: 15 | G18: 36 | I18: =IF(H18="","-",ROUNDUP(IFERROR(VLOOKUP(H18,Парапетры!$G$4:$P$77,$C$4,FALSE),0)*$C$18,0)) -> -
E19: Funkysouls.com | F19: 16 | G19: 33 | I19: =IF(H19="","-",ROUNDUP(IFERROR(VLOOKUP(H19,Парапетры!$G$4:$P$77,$C$4,FALSE),0)*$C$18,0)) -> -
A20: Максимальное количество очков за турнир | C20: =MAX(I4:I40) -> 103 | E20: ОЛФП Одесса | F20: 17 | G20: 29 | H20: 17 | I20: =IF(H20="","-",ROUNDUP(IFERROR(VLOOKUP(H20,Парапетры!$G$4:$P$77,$C$4,FALSE),0)*$C$18,0)) -> 28
A21: Классность турнира исходя из кол очков | C21: =IF(C20>=Парапетры!C16,"Премьер",IF(C20>=Парапетры!C17,"A",IF(C20>=Парапетры!C18,"B",IF(C20>=Парапетры!C19,"C","D")))) -> Премьер | E21: CHILE PEPPERS | F21: 18 | G21: 27 | H21: 19-21 | I21: =IF(H21="","-",ROUNDUP(IFERROR(VLOOKUP(H21,Парапетры!$G$4:$P$77,$C$4,FALSE),0)*$C$18,0)) -> 23
A22: Классность прошлогоднего турнира | C22: Премьер | E22: Евро-Футбол.ру | F22: 19-21 | G22: 24 | H22: 25-27 | I22: =IF(H22="","-",ROUNDUP(IFERROR(VLOOKUP(H22,Парапетры!$G$4:$P$77,$C$4,FALSE),0)*$C$18,0)) -> 12
E23: Сборная MFPL | F23: 22-24 | G23: 18 | H23: 31-33 | I23: =IF(H23="","-",ROUNDUP(IFERROR(VLOOKUP(H23,Парапетры!$G$4:$P$77,$C$4,FALSE),0)*$C$18,0)) -> 2
A24: 1 - Ставится "Да", если турнир является базовым по этой системе | E24: ЛитрБол | F24: 25-27 | G24: 13 | H24: 31-33 | I24: =IF(H24="","-",ROUNDUP(IFERROR(VLOOKUP(H24,Парапетры!$G$4:$P$77,$C$4,FALSE),0)*$C$18,0)) -> 2
E25: КСП "Феникс" | F25: 28-30 | G25: 8 | H25: 5 | I25: =IF(H25="","-",ROUNDUP(IFERROR(VLOOKUP(H25,Парапетры!$G$4:$P$77,$C$4,FALSE),0)*$C$18,0)) -> 76
E26: СФП "Уральский единорог" | F26: 31-33 | G26: 2 | H26: 28-30 | I26: =IF(H26="","-",ROUNDUP(IFERROR(VLOOKUP(H26,Парапетры!$G$4:$P$77,$C$4,FALSE),0)*$C$18,0)) -> 7
E27: Constellation | F27: 34-36 | G27: 0 | H27: 16 | I27: =IF(H27="","-",ROUNDUP(IFERROR(VLOOKUP(H27,Парапетры!$G$4:$P$77,$C$4,FALSE),0)*$C$18,0)) -> 31
E28: hsm97.ru | F28: 19-21 | G28: 24 | H28: 14 | I28: =IF(H28="","-",ROUNDUP(IFERROR(VLOOKUP(H28,Парапетры!$G$4:$P$77,$C$4,FALSE),0)*$C$18,0)) -> 38
E29: Best Football & Partizans | F29: 22-24 | G29: 18 | H29: 22-24 | I29: =IF(H29="","-",ROUNDUP(IFERROR(VLOOKUP(H29,Парапетры!$G$4:$P$77,$C$4,FALSE),0)*$C$18,0)) -> 18
E30: KUBAN.RU | F30: 25-27 | G30: 13 | H30: 22-24 | I30: =IF(H30="","-",ROUNDUP(IFERROR(VLOOKUP(H30,Парапетры!$G$4:$P$77,$C$4,FALSE),0)*$C$18,0)) -> 18
E31: Сборная Мегаспорта | F31: 28-30 | G31: 8 | H31: 25-27 | I31: =IF(H31="","-",ROUNDUP(IFERROR(VLOOKUP(H31,Парапетры!$G$4:$P$77,$C$4,FALSE),0)*$C$18,0)) -> 12
E32: 12ua | F32: 31-33 | G32: 2 | I32: =IF(H32="","-",ROUNDUP(IFERROR(VLOOKUP(H32,Парапетры!$G$4:$P$77,$C$4,FALSE),0)*$C$18,0)) -> -
E33: NeXT | F33: 34-36 | G33: 0 | H33: 6 | I33: =IF(H33="","-",ROUNDUP(IFERROR(VLOOKUP(H33,Парапетры!$G$4:$P$77,$C$4,FALSE),0)*$C$18,0)) -> 70
E34: AcMilanFan.ru | F34: 19-21 | G34: 24 | I34: =IF(H34="","-",ROUNDUP(IFERROR(VLOOKUP(H34,Парапетры!$G$4:$P$77,$C$4,FALSE),0)*$C$18,0)) -> -
E35: VFC KOSTROMA | F35: 22-24 | G35: 18 | H35: 19-21 | I35: =IF(H35="","-",ROUNDUP(IFERROR(VLOOKUP(H35,Парапетры!$G$4:$P$77,$C$4,FALSE),0)*$C$18,0)) -> 23
E36: FC Stadium33.ru | F36: 25-27 | G36: 13 | H36: 18 | I36: =IF(H36="","-",ROUNDUP(IFERROR(VLOOKUP(H36,Парапетры!$G$4:$P$77,$C$4,FALSE),0)*$C$18,0)) -> 26
E37: Красно-Белый Израиль (КБИ) | F37: 28-30 | G37: 8 | H37: 13 | I37: =IF(H37="","-",ROUNDUP(IFERROR(VLOOKUP(H37,Парапетры!$G$4:$P$77,$C$4,FALSE),0)*$C$18,0)) -> 41
E38: Сб. Донбасса | F38: 31-33 | G38: 2 | H38: 12 | I38: =IF(H38="","-",ROUNDUP(IFERROR(VLOOKUP(H38,Парапетры!$G$4:$P$77,$C$4,FALSE),0)*$C$18,0)) -> 45
E39: Манчестер-Юнайтед | F39: 34-36 | G39: 0 | I39: =IF(H39="","-",ROUNDUP(IFERROR(VLOOKUP(H39,Парапетры!$G$4:$P$77,$C$4,FALSE),0)*$C$18,0)) -> -
E40: CONFIANZA | G40: - | I40: =IF(H40="","-",ROUNDUP(IFERROR(VLOOKUP(H40,Парапетры!$G$4:$P$77,$C$4,FALSE),0)*$C$18,0)) -> -
E41: УкрФутбол | G41: - | H41: 4 | I41: =IF(H41="","-",ROUNDUP(IFERROR(VLOOKUP(H41,Парапетры!$G$4:$P$77,$C$4,FALSE),0)*$C$18,0)) -> 81
E42: GreenMile | G42: - | H42: 15 | I42: =IF(H42="","-",ROUNDUP(IFERROR(VLOOKUP(H42,Парапетры!$G$4:$P$77,$C$4,FALSE),0)*$C$18,0)) -> 35
E43: EXE | G43: - | H43: 22-24 | I43: =IF(H43="","-",ROUNDUP(IFERROR(VLOOKUP(H43,Парапетры!$G$4:$P$77,$C$4,FALSE),0)*$C$18,0)) -> 18

Sheet ТСА Кубок
A1: Кубок ТСА 2011 | E1: Положение команд в турнире
A2: Турнир текущего сезона сыгран | C2: Да | D2: =IF(C2="Да",5,3) -> 5 | F2: Кубок ТСА 2010 | H2: Кубок ТСА 2011
A3: Параметры текущего сезона | F3: Место | G3: Очки | H3: Место | I3: Очки
A4: Количество команд | B4: 31 | C4: =IF(B4>29,2,IF(B4>23,3,IF(B4>19,4,IF(B4>14,5,IF(B4>12,6,IF(B4>10,7,IF(B4>8,8,IF(B4>6,9,10)))))))) -> 2 | E4: КФК "ТОТО на ПЕСКАХ" | F4: Кубок | G4: =IF(F4="","-",ROUNDUP(IFERROR(VLOOKUP(F4,Парапетры!$G$81:$P$87,$C$4,FALSE),0)*$C$18,0)) -> 51 | I4: =IF(H4="","-",ROUNDUP(IFERROR(VLOOKUP(H4,Парапетры!$G$81:$P$87,$C$4,FALSE),0)*$C$18,0)) -> -
E5: АСП "Погоня" | F5: Финалист | G5: =IF(F5="","-",ROUNDUP(IFERROR(VLOOKUP(F5,Парапетры!$G$81:$P$87,$C$4,FALSE),0)*$C$18,0)) -> 46 | H5: 1/16 | I5: =IF(H5="","-",ROUNDUP(IFERROR(VLOOKUP(H5,Парапетры!$G$81:$P$87,$C$4,FALSE),0)*$C$18,0)) -> 17
A6: Название параметра | B6: Оценка | C6: Коэфф. | E6: AcMilanFan.Ru | F6: 1/2 | G6: =IF(F6="","-",ROUNDUP(IFERROR(VLOOKUP(F6,Парапетры!$G$81:$P$87,$C$4,FALSE),0)*$C$18,0)) -> 43 | I6: =IF(H6="","-",ROUNDUP(IFERROR(VLOOKUP(H6,Парапетры!$G$81:$P$87,$C$4,FALSE),0)*$C$18,0)) -> -
A7: Автоматизация | B7: Нет | C7: =IF(B7="Да",Парапетры!C2,0) -> 0 | E7: ЛФЛА | F7: 1/2 | G7: =IF(F7="","-",ROUNDUP(IFERROR(VLOOKUP(F7,Парапетры!$G$81:$P$87,$C$4,FALSE),0)*$C$18,0)) -> 43 | H7: 1/4 | I7: =IF(H7="","-",ROUNDUP(IFERROR(VLOOKUP(H7,Парапетры!$G$81:$P$87,$C$4,FALSE),0)*$C$18,0)) -> 34
A8: Замены | B8: Нет | C8: =IF(B8="Да",Парапетры!C3,0) -> 0 | E8: Красно-Белый Израиль (КБИ) | F8: 1/4 | G8: =IF(F8="","-",ROUNDUP(IFERROR(VLOOKUP(F8,Парапетры!$G$81:$P$87,$C$4,FALSE),0)*$C$18,0)) -> 34 | H8: 1/2 | I8: =IF(H8="","-",ROUNDUP(IFERROR(VLOOKUP(H8,Парапетры!$G$81:$P$87,$C$4,FALSE),0)*$C$18,0)) -> 43
A9: Корреляция | B9: Нет | C9: =IF(B9="Да",Парапетры!C4,0) -> 0 | E9: NeXT | F9: 1/4 | G9: =IF(F9="","-",ROUNDUP(IFERROR(VLOOKUP(F9,Парапетры!$G$81:$P$87,$C$4,FALSE),0)*$C$18,0)) -> 34 | H9: 1/8 | I9: =IF(H9="","-",ROUNDUP(IFERROR(VLOOKUP(H9,Парапетры!$G$81:$P$87,$C$4,FALSE),0)*$C$18,0)) -> 26
A10: Карточки | B10: Да | C10: =IF(B10="Да",Парапетры!C5,0) -> 0.02 | E10: Профессионалы Прогноза | F10: 1/4 | G10: =IF(F10="","-",ROUNDUP(IFERROR(VLOOKUP(F10,Парапетры!$G$81:$P$87,$C$4,FALSE),0)*$C$18,0)) -> 34 | H10: Финалист | I10: =IF(H10="","-",ROUNDUP(IFERROR(VLOOKUP(H10,Парапетры!$G$81:$P$87,$C$4,FALSE),0)*$C$18,0)) -> 46
A11: Трансфертные окна | B11: Да | C11: =IF(B11="Да",Парапетры!C6,0) -> 0.02 | E11: hsm97.ru | F11: 1/4 | G11: =IF(F11="","-",ROUNDUP(IFERROR(VLOOKUP(F11,Парапетры!$G$81:$P$87,$C$4,FALSE),0)*$C$18,0)) -> 34 | H11: 1/16 | I11: =IF(H11="","-",ROUNDUP(IFERROR(VLOOKUP(H11,Парапетры!$G$81:$P$87,$C$4,FALSE),0)*$C$18,0)) -> 17
A12: Система прогнозирования1 | B12: Нет | C12: =IF(B12="Да",Парапетры!C7,0) -> 0 | E12: КФП "Арсенал" | F12: 1/8 | G12: =IF(F12="","-",ROUNDUP(IFERROR(VLOOKUP(F12,Парапетры!$G$81:$P$87,$C$4,FALSE),0)*$C$18,0)) -> 26 | H12: 1/16 | I12: =IF(H12="","-",ROUNDUP(IFERROR(VLOOKUP(H12,Парапетры!$G$81:$P$87,$C$4,FALSE),0)*$C$18,0)) -> 17
A13: Организация | B13: 4 | C13: =B13*Парапетры!C8 -> 0.12 | E13: 12ua | F13: 1/8 | G13: =IF(F13="","-",ROUNDUP(IFERROR(VLOOKUP(F13,Парапетры!$G$81:$P$87,$C$4,FALSE),0)*$C$18,0)) -> 26 | I13: =IF(H13="","-",ROUNDUP(IFERROR(VLOOKUP(H13,Парапетры!$G$81:$P$87,$C$4,FALSE),0)*$C$18,0)) -> -
A14: Пресса, пресс-конференции отчеты. | C14: =B14*Парапетры!C9 -> 0 | E14: Soccer.ru | F14: 1/8 | G14: =IF(F14="","-",ROUNDUP(IFERROR(VLOOKUP(F14,Парапетры!$G$81:$P$87,$C$4,FALSE),0)*$C$18,0)) -> 26 | I14: =IF(H14="","-",ROUNDUP(IFERROR(VLOOKUP(H14,Парапетры!$G$81:$P$87,$C$4,FALSE),0)*$C$18,0)) -> -
A15: Статистика | B15: 5 | C15: =B15*Парапетры!C10 -> 0.075 | E15: FC Stadium33.ru | F15: 1/8 | G15: =IF(F15="","-",ROUNDUP(IFERROR(VLOOKUP(F15,Парапетры!$G$81:$P$87,$C$4,FALSE),0)*$C$18,0)) -> 26 | H15: 1/16 | I15: =IF(H15="","-",ROUNDUP(IFERROR(VLOOKUP(H15,Парапетры!$G$81:$P$87,$C$4,FALSE),0)*$C$18,0)) -> 17
A16: Количество команд из первый 10 рейтинга на начало турнира | B16: 9 | C16: =B16*Парапетры!C11 -> 0.45 | E16: ОЛФП Одесса | F16: 1/8 | G16: =IF(F16="","-",ROUNDUP(IFERROR(VLOOKUP(F16,Парапетры!$G$81:$P$87,$C$4,FALSE),0)*$C$18,0)) -> 26 | H16: 1/16 | I16: =IF(H16="","-",ROUNDUP(IFERROR(VLOOKUP(H16,Парапетры!$G$81:$P$87,$C$4,FALSE),0)*$C$18,0)) -> 17
E17: Сборная MFPL | F17: 1/8 | G17: =IF(F17="","-",ROUNDUP(IFERROR(VLOOKUP(F17,Парапетры!$G$81:$P$87,$C$4,FALSE),0)*$C$18,0)) -> 26 | I17: =IF(H17="","-",ROUNDUP(IFERROR(VLOOKUP(H17,Парапетры!$G$81:$P$87,$C$4,FALSE),0)*$C$18,0)) -> -
A18: Итого поправочный коэффициент | C18: =SUM(C7:C17)+1 -> 1.685 | E18: КСП "Феникс" | F18: 1/8 | G18: =IF(F18="","-",ROUNDUP(IFERROR(VLOOKUP(F18,Парапетры!$G$81:$P$87,$C$4,FALSE),0)*$C$18,0)) -> 26 | H18: 1/8 | I18: =IF(H18="","-",ROUNDUP(IFERROR(VLOOKUP(H18,Парапетры!$G$81:$P$87,$C$4,FALSE),0)*$C$18,0)) -> 26
E19: VOON.ru | F19: 1/8 | G19: =IF(F19="","-",ROUNDUP(IFERROR(VLOOKUP(F19,Парапетры!$G$81:$P$87,$C$4,FALSE),0)*$C$18,0)) -> 26 | I19: =IF(H19="","-",ROUNDUP(IFERROR(VLOOKUP(H19,Парапетры!$G$81:$P$87,$C$4,FALSE),0)*$C$18,0)) -> -
A20: Максимальное количество очков за турнир | C20: =MAX(I4:I40) -> 51 | E20: Волга | F20: 1/16 | G20: =IF(F20="","-",ROUNDUP(IFERROR(VLOOKUP(F20,Парапетры!$G$81:$P$87,$C$4,FALSE),0)*$C$18,0)) -> 17 | H20: 1/16 | I20: =IF(H20="","-",ROUNDUP(IFERROR(VLOOKUP(H20,Парапетры!$G$81:$P$87,$C$4,FALSE),0)*$C$18,0)) -> 17
A21: Классность турнира исходя из кол очков | C21: =IF(C20>=Парапетры!C24,"kA",IF(C20>=Парапетры!C25,"kB",IF(C20>=Парапетры!C26,"kC","kD"))) -> kA | E21: CHILE PEPPERS | F21: 1/16 | G21: =IF(F21="","-",ROUNDUP(IFERROR(VLOOKUP(F21,Парапетры!$G$81:$P$87,$C$4,FALSE),0)*$C$18,0)) -> 17 | H21: 1/16 | I21: =IF(H21="","-",ROUNDUP(IFERROR(VLOOKUP(H21,Парапетры!$G$81:$P$87,$C$4,FALSE),0)*$C$18,0)) -> 17
A22: Классность прошлогоднего турнира | C22: kA | E22: Сб. Донбасса | F22: 1/16 | G22: =IF(F22="","-",ROUNDUP(IFERROR(VLOOKUP(F22,Парапетры!$G$81:$P$87,$C$4,FALSE),0)*$C$18,0)) -> 17 | H22: 1/16 | I22: =IF(H22="","-",ROUNDUP(IFERROR(VLOOKUP(H22,Парапетры!$G$81:$P$87,$C$4,FALSE),0)*$C$18,0)) -> 17
E23: СФП "Уральский единорог" | F23: 1/16 | G23: =IF(F23="","-",ROUNDUP(IFERROR(VLOOKUP(F23,Парапетры!$G$81:$P$87,$C$4,FALSE),0)*$C$18,0)) -> 17 | H23: 1/16 | I23: =IF(H23="","-",ROUNDUP(IFERROR(VLOOKUP(H23,Парапетры!$G$81:$P$87,$C$4,FALSE),0)*$C$18,0)) -> 17
A24: 1 - Ставится "Да", если турнир является базовым по этой системе | E24: KUBAN.RU | F24: 1/16 | G24: =IF(F24="","-",ROUNDUP(IFERROR(VLOOKUP(F24,Парапетры!$G$81:$P$87,$C$4,FALSE),0)*$C$18,0)) -> 17 | H24: 1/16 | I24: =IF(H24="","-",ROUNDUP(IFERROR(VLOOKUP(H24,Парапетры!$G$81:$P$87,$C$4,FALSE),0)*$C$18,0)) -> 17
A25: В кубке параметры, относительно чемпионата уменьшены в двое | E25: КЛФП "Харьков" | F25: 1/16 | G25: =IF(F25="","-",ROUNDUP(IFERROR(VLOOKUP(F25,Парапетры!$G$81:$P$87,$C$4,FALSE),0)*$C$18,0)) -> 17 | H25: 1/8 | I25: =IF(H25="","-",ROUNDUP(IFERROR(VLOOKUP(H25,Парапетры!$G$81:$P$87,$C$4,FALSE),0)*$C$18,0)) -> 26
E26: Торпедо.ру | F26: 1/16 | G26: =IF(F26="","-",ROUNDUP(IFERROR(VLOOKUP(F26,Парапетры!$G$81:$P$87,$C$4,FALSE),0)*$C$18,0)) -> 17 | H26: Кубок | I26: =IF(H26="","-",ROUNDUP(IFERROR(VLOOKUP(H26,Парапетры!$G$81:$P$87,$C$4,FALSE),0)*$C$18,0)) -> 51
E27: Constellation | F27: 1/16 | G27: =IF(F27="","-",ROUNDUP(IFERROR(VLOOKUP(F27,Парапетры!$G$81:$P$87,$C$4,FALSE),0)*$C$18,0)) -> 17 | H27: 1/16 | I27: =IF(H27="","-",ROUNDUP(IFERROR(VLOOKUP(H27,Парапетры!$G$81:$P$87,$C$4,FALSE),0)*$C$18,0)) -> 17
E28: 7-40 | F28: 1/16 | G28: =IF(F28="","-",ROUNDUP(IFERROR(VLOOKUP(F28,Парапетры!$G$81:$P$87,$C$4,FALSE),0)*$C$18,0)) -> 17 | H28: 1/8 | I28: =IF(H28="","-",ROUNDUP(IFERROR(VLOOKUP(H28,Парапетры!$G$81:$P$87,$C$4,FALSE),0)*$C$18,0)) -> 26
E29: Best Football & Partizans | F29: 1/16 | G29: =IF(F29="","-",ROUNDUP(IFERROR(VLOOKUP(F29,Парапетры!$G$81:$P$87,$C$4,FALSE),0)*$C$18,0)) -> 17 | H29: 1/16 | I29: =IF(H29="","-",ROUNDUP(IFERROR(VLOOKUP(H29,Парапетры!$G$81:$P$87,$C$4,FALSE),0)*$C$18,0)) -> 17
E30: Funkysouls.com | F30: 1/16 | G30: =IF(F30="","-",ROUNDUP(IFERROR(VLOOKUP(F30,Парапетры!$G$81:$P$87,$C$4,FALSE),0)*$C$18,0)) -> 17 | I30: =IF(H30="","-",ROUNDUP(IFERROR(VLOOKUP(H30,Парапетры!$G$81:$P$87,$C$4,FALSE),0)*$C$18,0)) -> -
E31: ЛитрБол | F31: 1/16 | G31: =IF(F31="","-",ROUNDUP(IFERROR(VLOOKUP(F31,Парапетры!$G$81:$P$87,$C$4,FALSE),0)*$C$18,0)) -> 17 | H31: 1/16 | I31: =IF(H31="","-",ROUNDUP(IFERROR(VLOOKUP(H31,Парапетры!$G$81:$P$87,$C$4,FALSE),0)*$C$18,0)) -> 17
E32: FC NOROC | F32: 1/16 | G32: =IF(F32="","-",ROUNDUP(IFERROR(VLOOKUP(F32,Парапетры!$G$81:$P$87,$C$4,FALSE),0)*$C$18,0)) -> 17 | H32: 1/8 | I32: =IF(H32="","-",ROUNDUP(IFERROR(VLOOKUP(H32,Парапетры!$G$81:$P$87,$C$4,FALSE),0)*$C$18,0)) -> 26
E33: VFC KOSTROMA | F33: 1/16 | G33: =IF(F33="","-",ROUNDUP(IFERROR(VLOOKUP(F33,Парапетры!$G$81:$P$87,$C$4,FALSE),0)*$C$18,0)) -> 17 | H33: 1/4 | I33: =IF(H33="","-",ROUNDUP(IFERROR(VLOOKUP(H33,Парапетры!$G$81:$P$87,$C$4,FALSE),0)*$C$18,0)) -> 34
E34: КФП Mont Blanc | F34: 1/16 | G34: =IF(F34="","-",ROUNDUP(IFERROR(VLOOKUP(F34,Парапетры!$G$81:$P$87,$C$4,FALSE),0)*$C$18,0)) -> 17 | H34: 1/8 | I34: =IF(H34="","-",ROUNDUP(IFERROR(VLOOKUP(H34,Парапетры!$G$81:$P$87,$C$4,FALSE),0)*$C$18,0)) -> 26
E35: МКСП "Альянс" | F35: 1/16 | G35: =IF(F35="","-",ROUNDUP(IFERROR(VLOOKUP(F35,Парапетры!$G$81:$P$87,$C$4,FALSE),0)*$C$18,0)) -> 17 | H35: 1/2 | I35: =IF(H35="","-",ROUNDUP(IFERROR(VLOOKUP(H35,Парапетры!$G$81:$P$87,$C$4,FALSE),0)*$C$18,0)) -> 43
E36: Евро-Футбол.Ру | F36: Класс. | G36: =IF(F36="","-",ROUNDUP(IFERROR(VLOOKUP(F36,Парапетры!$G$81:$P$87,$C$4,FALSE),0)*$C$18,0)) -> 9 | I36: =IF(H36="","-",ROUNDUP(IFERROR(VLOOKUP(H36,Парапетры!$G$81:$P$87,$C$4,FALSE),0)*$C$18,0)) -> -
E37: СФП Football.By | F37: Класс. | G37: =IF(F37="","-",ROUNDUP(IFERROR(VLOOKUP(F37,Парапетры!$G$81:$P$87,$C$4,FALSE),0)*$C$18,0)) -> 9 | H37: 1/16 | I37: =IF(H37="","-",ROUNDUP(IFERROR(VLOOKUP(H37,Парапетры!$G$81:$P$87,$C$4,FALSE),0)*$C$18,0)) -> 17
E38: КСП Химик | F38: Класс. | G38: =IF(F38="","-",ROUNDUP(IFERROR(VLOOKUP(F38,Парапетры!$G$81:$P$87,$C$4,FALSE),0)*$C$18,0)) -> 9 | H38: 1/4 | I38: =IF(H38="","-",ROUNDUP(IFERROR(VLOOKUP(H38,Парапетры!$G$81:$P$87,$C$4,FALSE),0)*$C$18,0)) -> 34
E39: Сборная Мегаспорта | F39: Класс. | G39: =IF(F39="","-",ROUNDUP(IFERROR(VLOOKUP(F39,Парапетры!$G$81:$P$87,$C$4,FALSE),0)*$C$18,0)) -> 9 | H39: 1/8 | I39: =IF(H39="","-",ROUNDUP(IFERROR(VLOOKUP(H39,Парапетры!$G$81:$P$87,$C$4,FALSE),0)*$C$18,0)) -> 26
E40: CONFIANZA | G40: =IF(F40="","-",ROUNDUP(IFERROR(VLOOKUP(F40,Парапетры!$G$81:$P$87,$C$4,FALSE),0)*$C$18,0)) -> - | I40: =IF(H40="","-",ROUNDUP(IFERROR(VLOOKUP(H40,Парапетры!$G$81:$P$87,$C$4,FALSE),0)*$C$18,0)) -> -
E41: EXE | G41: =IF(F41="","-",ROUNDUP(IFERROR(VLOOKUP(F41,Парапетры!$G$81:$P$87,$C$4,FALSE),0)*$C$18,0)) -> - | H41: 1/16 | I41: =IF(H41="","-",ROUNDUP(IFERROR(VLOOKUP(H41,Парапетры!$G$81:$P$87,$C$4,FALSE),0)*$C$18,0)) -> 17
E42: GreenMile | G42: =IF(F42="","-",ROUNDUP(IFERROR(VLOOKUP(F42,Парапетры!$G$81:$P$87,$C$4,FALSE),0)*$C$18,0)) -> - | H42: 1/8 | I42: =IF(H42="","-",ROUNDUP(IFERROR(VLOOKUP(H42,Парапетры!$G$81:$P$87,$C$4,FALSE),0)*$C$18,0)) -> 26
E43: УкрФутбол | G43: =IF(F43="","-",ROUNDUP(IFERROR(VLOOKUP(F43,Парапетры!$G$81:$P$87,$C$4,FALSE),0)*$C$18,0)) -> - | H43: 1/4 | I43: =IF(H43="","-",ROUNDUP(IFERROR(VLOOKUP(H43,Парапетры!$G$81:$P$87,$C$4,FALSE),0)*$C$18,0)) -> 34

Sheet ФФП.Классика
A1: ФФП.Классика 2010 | E1: Положение команд в турнире
A2: Турнир текущего сезона сыгран | C2: Да | D2: =IF(C2="Да",5,3) -> 5 | F2: ФФП.Классика 2009 | H2: ФФП.Классика 2010
A3: Параметры текущего сезона | F3: Место | G3: Очки | H3: Место | I3: Очки
A4: Количество команд | B4: 24 | C4: =IF(B4>29,2,IF(B4>23,3,IF(B4>19,4,IF(B4>14,5,IF(B4>12,6,IF(B4>10,7,IF(B4>8,8,IF(B4>6,9,10)))))))) -> 3 | E4: КФП "Арсенал" | F4: 1 | G4: 111 | H4: 2 | I4: =IF(H4="","-",ROUNDUP(IFERROR(VLOOKUP(H4,Парапетры!$G$4:$P$77,$C$4,FALSE),0)*$C$18,0)) -> 76
E5: Kanonir.Com | F5: 2 | G5: 102 | H5: 16-18 | I5: =IF(H5="","-",ROUNDUP(IFERROR(VLOOKUP(H5,Парапетры!$G$4:$P$77,$C$4,FALSE),0)*$C$18,0)) -> 15
A6: Название параметра | B6: Оценка | C6: Коэфф. | E6: ТОРПЕДО.РУ | F6: 3-4 | G6: 91 | H6: 22-24 | I6: =IF(H6="","-",ROUNDUP(IFERROR(VLOOKUP(H6,Парапетры!$G$4:$P$77,$C$4,FALSE),0)*$C$18,0)) -> 4
A7: Автоматизация | B7: Да | C7: =IF(B7="Да",Парапетры!C2,0) -> 0.1 | E7: ОЛФП Одесса | F7: 3-4 | G7: 91 | H7: 4 | I7: =IF(H7="","-",ROUNDUP(IFERROR(VLOOKUP(H7,Парапетры!$G$4:$P$77,$C$4,FALSE),0)*$C$18,0)) -> 61
A8: Замены | B8: Да | C8: =IF(B8="Да",Парапетры!C3,0) -> 0.02 | E8: CHILE PEPPERS | F8: 5-8 | G8: 73 | H8: 19-21 | I8: =IF(H8="","-",ROUNDUP(IFERROR(VLOOKUP(H8,Парапетры!$G$4:$P$77,$C$4,FALSE),0)*$C$18,0)) -> 10
A9: Корреляция | B9: Нет | C9: =IF(B9="Да",Парапетры!C4,0) -> 0 | E9: 12ua | F9: 5-8 | G9: 73 | I9: =IF(H9="","-",ROUNDUP(IFERROR(VLOOKUP(H9,Парапетры!$G$4:$P$77,$C$4,FALSE),0)*$C$18,0)) -> -
A10: Карточки | B10: Нет | C10: =IF(B10="Да",Парапетры!C5,0) -> 0 | E10: СФП Football.By | F10: 5-8 | G10: 73 | H10: 19-21 | I10: =IF(H10="","-",ROUNDUP(IFERROR(VLOOKUP(H10,Парапетры!$G$4:$P$77,$C$4,FALSE),0)*$C$18,0)) -> 10
A11: Трансфертные окна | B11: Да | C11: =IF(B11="Да",Парапетры!C6,0) -> 0.02 | E11: FC NOROC | F11: 5-8 | G11: 73 | H11: 16-18 | I11: =IF(H11="","-",ROUNDUP(IFERROR(VLOOKUP(H11,Парапетры!$G$4:$P$77,$C$4,FALSE),0)*$C$18,0)) -> 15
A12: Система прогнозирования1 | B12: Да | C12: =IF(B12="Да",Парапетры!C7,0) -> 0.02 | E12: Funkysouls.com | F12: 9-16 | G12: 46 | I12: =IF(H12="","-",ROUNDUP(IFERROR(VLOOKUP(H12,Парапетры!$G$4:$P$77,$C$4,FALSE),0)*$C$18,0)) -> -
A13: Организация | B13: 4 | C13: =B13*Парапетры!C8 -> 0.12 | E13: УкрФутбол | F13: 9-16 | G13: 46 | I13: =IF(H13="","-",ROUNDUP(IFERROR(VLOOKUP(H13,Парапетры!$G$4:$P$77,$C$4,FALSE),0)*$C$18,0)) -> -
A14: Пресса, пресс-конференции отчеты. | B14: 4 | C14: =B14*Парапетры!C9 -> 0.06 | E14: Russian Roulette | F14: 9-16 | G14: 46 | H14: 9 | I14: =IF(H14="","-",ROUNDUP(IFERROR(VLOOKUP(H14,Парапетры!$G$4:$P$77,$C$4,FALSE),0)*$C$18,0)) -> 37
A15: Статистика | B15: 3 | C15: =B15*Парапетры!C10 -> 0.045 | E15: МКСП "Альянс" | F15: 9-16 | G15: 46 | H15: 1 | I15: =IF(H15="","-",ROUNDUP(IFERROR(VLOOKUP(H15,Парапетры!$G$4:$P$77,$C$4,FALSE),0)*$C$18,0)) -> 83
A16: Количество команд из первый 10 рейтинга на начало турнира | B16: 9 | C16: =B16*Парапетры!C11 -> 0.45 | E16: КЛФП "Харьков" | F16: 9-16 | G16: 46 | I16: =IF(H16="","-",ROUNDUP(IFERROR(VLOOKUP(H16,Парапетры!$G$4:$P$77,$C$4,FALSE),0)*$C$18,0)) -> -
E17: КФП Mont Blanc | F17: 9-16 | G17: 46 | H17: 13-15 | I17: =IF(H17="","-",ROUNDUP(IFERROR(VLOOKUP(H17,Парапетры!$G$4:$P$77,$C$4,FALSE),0)*$C$18,0)) -> 21
A18: Итого поправочный коэффициент | C18: =SUM(C7:C17)+1 -> 1.835 | E18: ВФЛ КБК | F18: 9-16 | G18: 46 | I18: =IF(H18="","-",ROUNDUP(IFERROR(VLOOKUP(H18,Парапетры!$G$4:$P$77,$C$4,FALSE),0)*$C$18,0)) -> -
E19: BEST FOOTBALL & PARTIZANS | F19: 9-16 | G19: 46 | H19: 13-15 | I19: =IF(H19="","-",ROUNDUP(IFERROR(VLOOKUP(H19,Парапетры!$G$4:$P$77,$C$4,FALSE),0)*$C$18,0)) -> 21
A20: Максимальное количество очков за турнир | C20: =MAX(I4:I36) -> 83 | E20: TOTO SHEVI | F20: 17-20 | G20: 27 | I20: =IF(H20="","-",ROUNDUP(IFERROR(VLOOKUP(H20,Парапетры!$G$4:$P$77,$C$4,FALSE),0)*$C$18,0)) -> -
A21: Классность турнира исходя из кол очков | C21: =IF(C20>=Парапетры!C16,"Премьер",IF(C20>=Парапетры!C17,"A",IF(C20>=Парапетры!C18,"B",IF(C20>=Парапетры!C19,"C","D")))) -> A | E21: Сборная Мегаспорта | F21: 17-20 | G21: 27 | I21: =IF(H21="","-",ROUNDUP(IFERROR(VLOOKUP(H21,Парапетры!$G$4:$P$77,$C$4,FALSE),0)*$C$18,0)) -> -
A22: Классность прошлогоднего турнира | C22: Премьер | E22: ФК "Форвард" | F22: 17-20 | G22: 27 | I22: =IF(H22="","-",ROUNDUP(IFERROR(VLOOKUP(H22,Парапетры!$G$4:$P$77,$C$4,FALSE),0)*$C$18,0)) -> -
E23: Профессионалы прогноза | F23: 17-20 | G23: 27 | H23: 19-21 | I23: =IF(H23="","-",ROUNDUP(IFERROR(VLOOKUP(H23,Парапетры!$G$4:$P$77,$C$4,FALSE),0)*$C$18,0)) -> 10
A24: 1 - Ставится "Да", если турнир является базовым по этой системе | E24: АСП "Погоня" | F24: 21-24 | G24: 20 | H24: 11 | I24: =IF(H24="","-",ROUNDUP(IFERROR(VLOOKUP(H24,Парапетры!$G$4:$P$77,$C$4,FALSE),0)*$C$18,0)) -> 30
E25: RED ARMY | F25: 21-24 | G25: 20 | H25: 3 | I25: =IF(H25="","-",ROUNDUP(IFERROR(VLOOKUP(H25,Парапетры!$G$4:$P$77,$C$4,FALSE),0)*$C$18,0)) -> 68
E26: 7-40 | F26: 21-24 | G26: 20 | H26: 16-18 | I26: =IF(H26="","-",ROUNDUP(IFERROR(VLOOKUP(H26,Парапетры!$G$4:$P$77,$C$4,FALSE),0)*$C$18,0)) -> 15
E27: КЛФП-Минск | F27: 21-24 | G27: 20 | I27: =IF(H27="","-",ROUNDUP(IFERROR(VLOOKUP(H27,Парапетры!$G$4:$P$77,$C$4,FALSE),0)*$C$18,0)) -> -
E28: KFP.RU | F28: 25-28 | G28: 12 | H28: 10 | I28: =IF(H28="","-",ROUNDUP(IFERROR(VLOOKUP(H28,Парапетры!$G$4:$P$77,$C$4,FALSE),0)*$C$18,0)) -> 34
E29: Fprognoz.com | F29: 25-28 | G29: 12 | H29: 22-24 | I29: =IF(H29="","-",ROUNDUP(IFERROR(VLOOKUP(H29,Парапетры!$G$4:$P$77,$C$4,FALSE),0)*$C$18,0)) -> 4
E30: VOON.RU | F30: 25-28 | G30: 12 | H30: 13-15 | I30: =IF(H30="","-",ROUNDUP(IFERROR(VLOOKUP(H30,Парапетры!$G$4:$P$77,$C$4,FALSE),0)*$C$18,0)) -> 21
E31: Красно-Белый Израиль (КБИ) | F31: 25-28 | G31: 12 | H31: 5 | I31: =IF(H31="","-",ROUNDUP(IFERROR(VLOOKUP(H31,Парапетры!$G$4:$P$77,$C$4,FALSE),0)*$C$18,0)) -> 56
E32: АФК-Кузбасс | F32: 29-31 | G32: 6 | H32: 22-24 | I32: =IF(H32="","-",ROUNDUP(IFERROR(VLOOKUP(H32,Парапетры!$G$4:$P$77,$C$4,FALSE),0)*$C$18,0)) -> 4
E33: ЛитрБол | F33: 29-31 | G33: 6 | I33: =IF(H33="","-",ROUNDUP(IFERROR(VLOOKUP(H33,Парапетры!$G$4:$P$77,$C$4,FALSE),0)*$C$18,0)) -> -
E34: КСП "Феникс" | F34: 29-31 | G34: 6 | H34: 7 | I34: =IF(H34="","-",ROUNDUP(IFERROR(VLOOKUP(H34,Парапетры!$G$4:$P$77,$C$4,FALSE),0)*$C$18,0)) -> 45
E35: VFLP.RU | G35: - | H35: 12 | I35: =IF(H35="","-",ROUNDUP(IFERROR(VLOOKUP(H35,Парапетры!$G$4:$P$77,$C$4,FALSE),0)*$C$18,0)) -> 26
E36: EXE | G36: - | H36: 6 | I36: =IF(H36="","-",ROUNDUP(IFERROR(VLOOKUP(H36,Парапетры!$G$4:$P$77,$C$4,FALSE),0)*$C$18,0)) -> 50
E37: Сборная ЗенитЗоне.ру | G37: - | H37: 8 | I37: =IF(H37="","-",ROUNDUP(IFERROR(VLOOKUP(H37,Парапетры!$G$4:$P$77,$C$4,FALSE),0)*$C$18,0)) -> 41

Sheet Спартакиада
A1: Спартакиада 2011 | E1: Положение команд в турнире
A2: Турнир текущего сезона сыгран | C2: Да | D2: =IF(C2="Да",5,3) -> 5 | F2: Спартакиада - 2010 | H2: Спартакиада - 2011
A3: Параметры текущего сезона | F3: Место | G3: Очки | H3: Место | I3: Очки
A4: Количество команд | B4: 30 | C4: =IF(B4>29,2,IF(B4>23,3,IF(B4>19,4,IF(B4>14,5,IF(B4>12,6,IF(B4>10,7,IF(B4>8,8,IF(B4>6,9,10)))))))) -> 2 | E4: EXE | F4: 1 | G4: =IF(F4="","-",ROUNDUP(IFERROR(VLOOKUP(F4,Парапетры!$G$4:$P$77,$C$4,FALSE),0)*$C$18,0)) -> 110 | H4: 21-25 | I4: =IF(H4="","-",ROUNDUP(IFERROR(VLOOKUP(H4,Парапетры!$G$4:$P$77,$C$4,FALSE),0)*$C$18,0)) -> 19
E5: КЛФП "Харьков" | F5: 2 | G5: =IF(F5="","-",ROUNDUP(IFERROR(VLOOKUP(F5,Парапетры!$G$4:$P$77,$C$4,FALSE),0)*$C$18,0)) -> 101 | H5: 5 | I5: =IF(H5="","-",ROUNDUP(IFERROR(VLOOKUP(H5,Парапетры!$G$4:$P$77,$C$4,FALSE),0)*$C$18,0)) -> 81
A6: Название параметра | B6: Оценка | C6: Коэфф. | E6: ТОРПЕДО.РУ | F6: 3 | G6: =IF(F6="","-",ROUNDUP(IFERROR(VLOOKUP(F6,Парапетры!$G$4:$P$77,$C$4,FALSE),0)*$C$18,0)) -> 94 | H6: 26-30 | I6: =IF(H6="","-",ROUNDUP(IFERROR(VLOOKUP(H6,Парапетры!$G$4:$P$77,$C$4,FALSE),0)*$C$18,0)) -> 10
A7: Автоматизация | B7: Да | C7: =IF(B7="Да",Парапетры!C2,0) -> 0.1 | E7: МКСП "Альянс" | F7: 4 | G7: =IF(F7="","-",ROUNDUP(IFERROR(VLOOKUP(F7,Парапетры!$G$4:$P$77,$C$4,FALSE),0)*$C$18,0)) -> 87 | H7: 11-15 | I7: =IF(H7="","-",ROUNDUP(IFERROR(VLOOKUP(H7,Парапетры!$G$4:$P$77,$C$4,FALSE),0)*$C$18,0)) -> 44
A8: Замены | B8: Нет | C8: =IF(B8="Да",Парапетры!C3,0) -> 0 | E8: АФК-Кузбасс | F8: 5 | G8: =IF(F8="","-",ROUNDUP(IFERROR(VLOOKUP(F8,Парапетры!$G$4:$P$77,$C$4,FALSE),0)*$C$18,0)) -> 81 | H8: 11-15 | I8: =IF(H8="","-",ROUNDUP(IFERROR(VLOOKUP(H8,Парапетры!$G$4:$P$77,$C$4,FALSE),0)*$C$18,0)) -> 44
A9: Корреляция | B9: Нет | C9: =IF(B9="Да",Парапетры!C4,0) -> 0 | E9: КСП Химик | F9: 6 | G9: =IF(F9="","-",ROUNDUP(IFERROR(VLOOKUP(F9,Парапетры!$G$4:$P$77,$C$4,FALSE),0)*$C$18,0)) -> 76 | H9: 21-25 | I9: =IF(H9="","-",ROUNDUP(IFERROR(VLOOKUP(H9,Парапетры!$G$4:$P$77,$C$4,FALSE),0)*$C$18,0)) -> 19
A10: Карточки | B10: Нет | C10: =IF(B10="Да",Парапетры!C5,0) -> 0 | E10: Fprognoz.com | F10: 7 | G10: =IF(F10="","-",ROUNDUP(IFERROR(VLOOKUP(F10,Парапетры!$G$4:$P$77,$C$4,FALSE),0)*$C$18,0)) -> 70 | H10: 16-20 | I10: =IF(H10="","-",ROUNDUP(IFERROR(VLOOKUP(H10,Парапетры!$G$4:$P$77,$C$4,FALSE),0)*$C$18,0)) -> 28
A11: Трансфертные окна | B11: Да | C11: =IF(B11="Да",Парапетры!C6,0) -> 0.02 | E11: RED ARMY | F11: 8 | G11: =IF(F11="","-",ROUNDUP(IFERROR(VLOOKUP(F11,Парапетры!$G$4:$P$77,$C$4,FALSE),0)*$C$18,0)) -> 65 | H11: 11-15 | I11: =IF(H11="","-",ROUNDUP(IFERROR(VLOOKUP(H11,Парапетры!$G$4:$P$77,$C$4,FALSE),0)*$C$18,0)) -> 44
A12: Система прогнозирования1 | B12: Да | C12: =IF(B12="Да",Парапетры!C7,0) -> 0.02 | E12: СФП Football.By | F12: 9 | G12: =IF(F12="","-",ROUNDUP(IFERROR(VLOOKUP(F12,Парапетры!$G$4:$P$77,$C$4,FALSE),0)*$C$18,0)) -> 59 | H12: 11-15 | I12: =IF(H12="","-",ROUNDUP(IFERROR(VLOOKUP(H12,Парапетры!$G$4:$P$77,$C$4,FALSE),0)*$C$18,0)) -> 44
A13: Организация | B13: 5 | C13: =B13*Парапетры!C8 -> 0.15 | E13: ФК "Форвард" | F13: 10 | G13: =IF(F13="","-",ROUNDUP(IFERROR(VLOOKUP(F13,Парапетры!$G$4:$P$77,$C$4,FALSE),0)*$C$18,0)) -> 55 | I13: =IF(H13="","-",ROUNDUP(IFERROR(VLOOKUP(H13,Парапетры!$G$4:$P$77,$C$4,FALSE),0)*$C$18,0)) -> -
A14: Пресса, пресс-конференции отчеты. | B14: 3 | C14: =B14*Парапетры!C9 -> 0.045 | E14: TOTO SHEVI | F14: 11 | G14: =IF(F14="","-",ROUNDUP(IFERROR(VLOOKUP(F14,Парапетры!$G$4:$P$77,$C$4,FALSE),0)*$C$18,0)) -> 52 | H14: 11-15 | I14: =IF(H14="","-",ROUNDUP(IFERROR(VLOOKUP(H14,Парапетры!$G$4:$P$77,$C$4,FALSE),0)*$C$18,0)) -> 44
A15: Статистика | B15: 3 | C15: =B15*Парапетры!C10 -> 0.045 | E15: VFLP.RU | F15: 12 | G15: =IF(F15="","-",ROUNDUP(IFERROR(VLOOKUP(F15,Парапетры!$G$4:$P$77,$C$4,FALSE),0)*$C$18,0)) -> 48 | H15: 21-25 | I15: =IF(H15="","-",ROUNDUP(IFERROR(VLOOKUP(H15,Парапетры!$G$4:$P$77,$C$4,FALSE),0)*$C$18,0)) -> 19
A16: Количество команд из первый 10 рейтинга на начало турнира | B16: 9 | C16: =B16*Парапетры!C11 -> 0.45 | E16: АСП "Погоня" | F16: 13-16 | G16: =IF(F16="","-",ROUNDUP(IFERROR(VLOOKUP(F16,Парапетры!$G$4:$P$77,$C$4,FALSE),0)*$C$18,0)) -> 39 | H16: 9 | I16: =IF(H16="","-",ROUNDUP(IFERROR(VLOOKUP(H16,Парапетры!$G$4:$P$77,$C$4,FALSE),0)*$C$18,0)) -> 59
E17: VOON.RU | F17: 17-20 | G17: =IF(F17="","-",ROUNDUP(IFERROR(VLOOKUP(F17,Парапетры!$G$4:$P$77,$C$4,FALSE),0)*$C$18,0)) -> 27 | H17: 1 | I17: =IF(H17="","-",ROUNDUP(IFERROR(VLOOKUP(H17,Парапетры!$G$4:$P$77,$C$4,FALSE),0)*$C$18,0)) -> 110
A18: Итого поправочный коэффициент | C18: =SUM(C7:C17)+1 -> 1.83 | E18: Волга | F18: 21-24 | G18: =IF(F18="","-",ROUNDUP(IFERROR(VLOOKUP(F18,Парапетры!$G$4:$P$77,$C$4,FALSE),0)*$C$18,0)) -> 20 | I18: =IF(H18="","-",ROUNDUP(IFERROR(VLOOKUP(H18,Парапетры!$G$4:$P$77,$C$4,FALSE),0)*$C$18,0)) -> -
E19: Сборная Мегаспорта | F19: 25-28 | G19: =IF(F19="","-",ROUNDUP(IFERROR(VLOOKUP(F19,Парапетры!$G$4:$P$77,$C$4,FALSE),0)*$C$18,0)) -> 12 | H19: 26-30 | I19: =IF(H19="","-",ROUNDUP(IFERROR(VLOOKUP(H19,Парапетры!$G$4:$P$77,$C$4,FALSE),0)*$C$18,0)) -> 10
A20: Максимальное количество очков за турнир | C20: =MAX(I4:I40) -> 110 | E20: Красно-Белый Израиль (КБИ) | F20: 29-32 | G20: =IF(F20="","-",ROUNDUP(IFERROR(VLOOKUP(F20,Парапетры!$G$4:$P$77,$C$4,FALSE),0)*$C$18,0)) -> 5 | H20: 3 | I20: =IF(H20="","-",ROUNDUP(IFERROR(VLOOKUP(H20,Парапетры!$G$4:$P$77,$C$4,FALSE),0)*$C$18,0)) -> 94
A21: Классность турнира исходя из кол очков | C21: =IF(C20>=Парапетры!C16,"Премьер",IF(C20>=Парапетры!C17,"A",IF(C20>=Парапетры!C18,"B",IF(C20>=Парапетры!C19,"C","D")))) -> Премьер | E21: УкрФутбол | F21: 13-16 | G21: =IF(F21="","-",ROUNDUP(IFERROR(VLOOKUP(F21,Парапетры!$G$4:$P$77,$C$4,FALSE),0)*$C$18,0)) -> 39 | H21: 16-20 | I21: =IF(H21="","-",ROUNDUP(IFERROR(VLOOKUP(H21,Парапетры!$G$4:$P$77,$C$4,FALSE),0)*$C$18,0)) -> 28
A22: Классность прошлогоднего турнира | C22: Премьер | E22: ВФЛ КБК | F22: 17-20 | G22: =IF(F22="","-",ROUNDUP(IFERROR(VLOOKUP(F22,Парапетры!$G$4:$P$77,$C$4,FALSE),0)*$C$18,0)) -> 27 | I22: =IF(H22="","-",ROUNDUP(IFERROR(VLOOKUP(H22,Парапетры!$G$4:$P$77,$C$4,FALSE),0)*$C$18,0)) -> -
E23: VOON.RU-молодежная | F23: 21-24 | G23: =IF(F23="","-",ROUNDUP(IFERROR(VLOOKUP(F23,Парапетры!$G$4:$P$77,$C$4,FALSE),0)*$C$18,0)) -> 20 | I23: =IF(H23="","-",ROUNDUP(IFERROR(VLOOKUP(H23,Парапетры!$G$4:$P$77,$C$4,FALSE),0)*$C$18,0)) -> -
A24: 1 - Ставится "Да", если турнир является базовым по этой системе | E24: КФП Mont Blanc | F24: 25-28 | G24: =IF(F24="","-",ROUNDUP(IFERROR(VLOOKUP(F24,Парапетры!$G$4:$P$77,$C$4,FALSE),0)*$C$18,0)) -> 12 | H24: 6 | I24: =IF(H24="","-",ROUNDUP(IFERROR(VLOOKUP(H24,Парапетры!$G$4:$P$77,$C$4,FALSE),0)*$C$18,0)) -> 76
E25: КСП "Феникс" | F25: 29-32 | G25: =IF(F25="","-",ROUNDUP(IFERROR(VLOOKUP(F25,Парапетры!$G$4:$P$77,$C$4,FALSE),0)*$C$18,0)) -> 5 | H25: 16-20 | I25: =IF(H25="","-",ROUNDUP(IFERROR(VLOOKUP(H25,Парапетры!$G$4:$P$77,$C$4,FALSE),0)*$C$18,0)) -> 28
E26: KFP.RU | F26: 13-16 | G26: =IF(F26="","-",ROUNDUP(IFERROR(VLOOKUP(F26,Парапетры!$G$4:$P$77,$C$4,FALSE),0)*$C$18,0)) -> 39 | H26: 21-25 | I26: =IF(H26="","-",ROUNDUP(IFERROR(VLOOKUP(H26,Парапетры!$G$4:$P$77,$C$4,FALSE),0)*$C$18,0)) -> 19
E27: 12ua | F27: 17-20 | G27: =IF(F27="","-",ROUNDUP(IFERROR(VLOOKUP(F27,Парапетры!$G$4:$P$77,$C$4,FALSE),0)*$C$18,0)) -> 27 | I27: =IF(H27="","-",ROUNDUP(IFERROR(VLOOKUP(H27,Парапетры!$G$4:$P$77,$C$4,FALSE),0)*$C$18,0)) -> -
E28: Best Football & Partizans | F28: 21-24 | G28: =IF(F28="","-",ROUNDUP(IFERROR(VLOOKUP(F28,Парапетры!$G$4:$P$77,$C$4,FALSE),0)*$C$18,0)) -> 20 | H28: 16-20 | I28: =IF(H28="","-",ROUNDUP(IFERROR(VLOOKUP(H28,Парапетры!$G$4:$P$77,$C$4,FALSE),0)*$C$18,0)) -> 28
E29: КФП "Арсенал" | F29: 25-28 | G29: =IF(F29="","-",ROUNDUP(IFERROR(VLOOKUP(F29,Парапетры!$G$4:$P$77,$C$4,FALSE),0)*$C$18,0)) -> 12 | H29: 8 | I29: =IF(H29="","-",ROUNDUP(IFERROR(VLOOKUP(H29,Парапетры!$G$4:$P$77,$C$4,FALSE),0)*$C$18,0)) -> 65
E30: Kanonir.com | F30: 29-32 | G30: =IF(F30="","-",ROUNDUP(IFERROR(VLOOKUP(F30,Парапетры!$G$4:$P$77,$C$4,FALSE),0)*$C$18,0)) -> 5 | H30: 10 | I30: =IF(H30="","-",ROUNDUP(IFERROR(VLOOKUP(H30,Парапетры!$G$4:$P$77,$C$4,FALSE),0)*$C$18,0)) -> 55
E31: Профессионалы прогноза | F31: 13-16 | G31: =IF(F31="","-",ROUNDUP(IFERROR(VLOOKUP(F31,Парапетры!$G$4:$P$77,$C$4,FALSE),0)*$C$18,0)) -> 39 | H31: 26-30 | I31: =IF(H31="","-",ROUNDUP(IFERROR(VLOOKUP(H31,Парапетры!$G$4:$P$77,$C$4,FALSE),0)*$C$18,0)) -> 10
E32: 7-40 | F32: 17-20 | G32: =IF(F32="","-",ROUNDUP(IFERROR(VLOOKUP(F32,Парапетры!$G$4:$P$77,$C$4,FALSE),0)*$C$18,0)) -> 27 | H32: 7 | I32: =IF(H32="","-",ROUNDUP(IFERROR(VLOOKUP(H32,Парапетры!$G$4:$P$77,$C$4,FALSE),0)*$C$18,0)) -> 70
E33: ОЛФП Одесса | F33: 21-24 | G33: =IF(F33="","-",ROUNDUP(IFERROR(VLOOKUP(F33,Парапетры!$G$4:$P$77,$C$4,FALSE),0)*$C$18,0)) -> 20 | H33: 16-20 | I33: =IF(H33="","-",ROUNDUP(IFERROR(VLOOKUP(H33,Парапетры!$G$4:$P$77,$C$4,FALSE),0)*$C$18,0)) -> 28
E34: FunkySouls.com | F34: 25-28 | G34: =IF(F34="","-",ROUNDUP(IFERROR(VLOOKUP(F34,Парапетры!$G$4:$P$77,$C$4,FALSE),0)*$C$18,0)) -> 12 | H34: 26-30 | I34: =IF(H34="","-",ROUNDUP(IFERROR(VLOOKUP(H34,Парапетры!$G$4:$P$77,$C$4,FALSE),0)*$C$18,0)) -> 10
E35: CHILE PEPPERS | F35: 29-32 | G35: =IF(F35="","-",ROUNDUP(IFERROR(VLOOKUP(F35,Парапетры!$G$4:$P$77,$C$4,FALSE),0)*$C$18,0)) -> 5 | H35: 26-30 | I35: =IF(H35="","-",ROUNDUP(IFERROR(VLOOKUP(H35,Парапетры!$G$4:$P$77,$C$4,FALSE),0)*$C$18,0)) -> 10
E36: SaSiSa | G36: =IF(F36="","-",ROUNDUP(IFERROR(VLOOKUP(F36,Парапетры!$G$4:$P$77,$C$4,FALSE),0)*$C$18,0)) -> - | H36: 4 | I36: =IF(H36="","-",ROUNDUP(IFERROR(VLOOKUP(H36,Парапетры!$G$4:$P$77,$C$4,FALSE),0)*$C$18,0)) -> 87
E37: FC NOROC | G37: =IF(F37="","-",ROUNDUP(IFERROR(VLOOKUP(F37,Парапетры!$G$4:$P$77,$C$4,FALSE),0)*$C$18,0)) -> - | H37: 2 | I37: =IF(H37="","-",ROUNDUP(IFERROR(VLOOKUP(H37,Парапетры!$G$4:$P$77,$C$4,FALSE),0)*$C$18,0)) -> 101
E38: Сборная ЗенитЗоне.ру | G38: =IF(F38="","-",ROUNDUP(IFERROR(VLOOKUP(F38,Парапетры!$G$4:$P$77,$C$4,FALSE),0)*$C$18,0)) -> - | H38: 21-25 | I38: =IF(H38="","-",ROUNDUP(IFERROR(VLOOKUP(H38,Парапетры!$G$4:$P$77,$C$4,FALSE),0)*$C$18,0)) -> 19
G39: =IF(F39="","-",ROUNDUP(IFERROR(VLOOKUP(F39,Парапетры!$G$4:$P$77,$C$4,FALSE),0)*$C$18,0)) -> - | I39: =IF(H39="","-",ROUNDUP(IFERROR(VLOOKUP(H39,Парапетры!$G$4:$P$77,$C$4,FALSE),0)*$C$18,0)) -> -
G40: =IF(F40="","-",ROUNDUP(IFERROR(VLOOKUP(F40,Парапетры!$G$4:$P$77,$C$4,FALSE),0)*$C$18,0)) -> - | I40: =IF(H40="","-",ROUNDUP(IFERROR(VLOOKUP(H40,Парапетры!$G$4:$P$77,$C$4,FALSE),0)*$C$18,0)) -> -

Sheet ФФП.счет
A1: ФФП.Счет 2010 | E1: Положение команд в турнире
A2: Турнир текущего сезона сыгран | C2: Да | D2: =IF(C2="Да",5,3) -> 5 | F2: ФФП.Счет 2009 | H2: ФФП.Счет 2010
A3: Параметры текущего сезона | F3: Место | G3: Очки | H3: Место | I3: Очки
A4: Количество команд | B4: 22 | C4: =IF(B4>29,2,IF(B4>23,3,IF(B4>19,4,IF(B4>14,5,IF(B4>12,6,IF(B4>10,7,IF(B4>8,8,IF(B4>6,9,10)))))))) -> 4 | E4: Kanonir.Com | F4: 1 | G4: 80 | H4: 14 | I4: =IF(H4="","-",ROUNDUP(IFERROR(VLOOKUP(H4,Парапетры!$G$4:$P$77,$C$4,FALSE),0)*$C$18,0)) -> 13
E5: Fprognoz.com | F5: 2 | G5: 73 | H5: 21 | I5: =IF(H5="","-",ROUNDUP(IFERROR(VLOOKUP(H5,Парапетры!$G$4:$P$77,$C$4,FALSE),0)*$C$18,0)) -> 0
A6: Название параметра | B6: Оценка | C6: Коэфф. | E6: КЛФП "Харьков" | F6: 3 | G6: 66 | H6: 13 | I6: =IF(H6="","-",ROUNDUP(IFERROR(VLOOKUP(H6,Парапетры!$G$4:$P$77,$C$4,FALSE),0)*$C$18,0)) -> 15
A7: Автоматизация | B7: Да | C7: =IF(B7="Да",Парапетры!C2,0) -> 0.1 | E7: АСП "Погоня" | F7: 4 | G7: 59 | H7: 5-8 | I7: =IF(H7="","-",ROUNDUP(IFERROR(VLOOKUP(H7,Парапетры!$G$4:$P$77,$C$4,FALSE),0)*$C$18,0)) -> 34
A8: Замены | B8: Да | C8: =IF(B8="Да",Парапетры!C3,0) -> 0.02 | E8: МКСП "Альянс" | F8: 5 | G8: 54 | H8: 2 | I8: =IF(H8="","-",ROUNDUP(IFERROR(VLOOKUP(H8,Парапетры!$G$4:$P$77,$C$4,FALSE),0)*$C$18,0)) -> 60
A9: Корреляция | B9: Нет | C9: =IF(B9="Да",Парапетры!C4,0) -> 0 | E9: Красно-Белый Израиль (КБИ) | F9: 6 | G9: 48 | H9: 10 | I9: =IF(H9="","-",ROUNDUP(IFERROR(VLOOKUP(H9,Парапетры!$G$4:$P$77,$C$4,FALSE),0)*$C$18,0)) -> 22
A10: Карточки | B10: Нет | C10: =IF(B10="Да",Парапетры!C5,0) -> 0 | E10: ТОРПЕДО.РУ | F10: 7 | G10: 43 | H10: 5-8 | I10: =IF(H10="","-",ROUNDUP(IFERROR(VLOOKUP(H10,Парапетры!$G$4:$P$77,$C$4,FALSE),0)*$C$18,0)) -> 34
A11: Трансфертные окна | B11: Да | C11: =IF(B11="Да",Парапетры!C6,0) -> 0.02 | E11: КФП Mont Blanc | F11: 8 | G11: 39 | H11: 22 | I11: =IF(H11="","-",ROUNDUP(IFERROR(VLOOKUP(H11,Парапетры!$G$4:$P$77,$C$4,FALSE),0)*$C$18,0)) -> 0
A12: Система прогнозирования1 | B12: Нет | C12: =IF(B12="Да",Парапетры!C7,0) -> 0 | E12: BEST FOOTBALL & PARTIZANS | F12: 9 | G12: 36 | H12: 18 | I12: =IF(H12="","-",ROUNDUP(IFERROR(VLOOKUP(H12,Парапетры!$G$4:$P$77,$C$4,FALSE),0)*$C$18,0)) -> 6
A13: Организация | B13: 4 | C13: =B13*Парапетры!C8 -> 0.12 | E13: 12ua | F13: 10 | G13: 32 | I13: =IF(H13="","-",ROUNDUP(IFERROR(VLOOKUP(H13,Парапетры!$G$4:$P$77,$C$4,FALSE),0)*$C$18,0)) -> -
A14: Пресса, пресс-конференции отчеты. | C14: =B14*Парапетры!C9 -> 0 | E14: TOTO SHEVI | F14: 11 | G14: 29 | I14: =IF(H14="","-",ROUNDUP(IFERROR(VLOOKUP(H14,Парапетры!$G$4:$P$77,$C$4,FALSE),0)*$C$18,0)) -> -
A15: Статистика | B15: 3 | C15: =B15*Парапетры!C10 -> 0.045 | E15: Профессионалы прогноза | F15: 12 | G15: 25 | H15: 11 | I15: =IF(H15="","-",ROUNDUP(IFERROR(VLOOKUP(H15,Парапетры!$G$4:$P$77,$C$4,FALSE),0)*$C$18,0)) -> 18
A16: Количество команд из первый 10 рейтинга на начало турнира | B16: 9 | C16: =B16*Парапетры!C11 -> 0.45 | E16: RED ARMY | F16: 13 | G16: 22 | H16: 16 | I16: =IF(H16="","-",ROUNDUP(IFERROR(VLOOKUP(H16,Парапетры!$G$4:$P$77,$C$4,FALSE),0)*$C$18,0)) -> 9
E17: КФП "Арсенал" | F17: 14 | G17: 20 | H17: 17 | I17: =IF(H17="","-",ROUNDUP(IFERROR(VLOOKUP(H17,Парапетры!$G$4:$P$77,$C$4,FALSE),0)*$C$18,0)) -> 8
A18: Итого поправочный коэффициент | C18: =SUM(C7:C17)+1 -> 1.755 | E18: Сборная Мегаспорта | F18: 15 | G18: 18 | I18: =IF(H18="","-",ROUNDUP(IFERROR(VLOOKUP(H18,Парапетры!$G$4:$P$77,$C$4,FALSE),0)*$C$18,0)) -> -
E19: Funkysouls.com | F19: 16 | G19: 16 | I19: =IF(H19="","-",ROUNDUP(IFERROR(VLOOKUP(H19,Парапетры!$G$4:$P$77,$C$4,FALSE),0)*$C$18,0)) -> -
A20: Максимальное количество очков за турнир | C20: =MAX(I4:I44) -> 67 | E20: CHILE PEPPERS | F20: 17 | G20: 15 | H20: 20 | I20: =IF(H20="","-",ROUNDUP(IFERROR(VLOOKUP(H20,Парапетры!$G$4:$P$77,$C$4,FALSE),0)*$C$18,0)) -> 2
A21: Классность турнира исходя из кол очков | C21: =IF(C20>=Парапетры!C16,"Премьер",IF(C20>=Парапетры!C17,"A",IF(C20>=Парапетры!C18,"B",IF(C20>=Парапетры!C19,"C","D")))) -> B | E21: ВФЛ КБК | F21: 18 | G21: 13 | I21: =IF(H21="","-",ROUNDUP(IFERROR(VLOOKUP(H21,Парапетры!$G$4:$P$77,$C$4,FALSE),0)*$C$18,0)) -> -
A22: Классность прошлогоднего турнира | C22: A | E22: ОЛФП Одесса | F22: 19 | G22: 11 | H22: 4 | I22: =IF(H22="","-",ROUNDUP(IFERROR(VLOOKUP(H22,Парапетры!$G$4:$P$77,$C$4,FALSE),0)*$C$18,0)) -> 46
E23: ЛитрБол | F23: 20 | G23: 9 | I23: =IF(H23="","-",ROUNDUP(IFERROR(VLOOKUP(H23,Парапетры!$G$4:$P$77,$C$4,FALSE),0)*$C$18,0)) -> -
A24: 1 - Ставится "Да", если турнир является базовым по этой системе | E24: СФП Football.By | F24: 21 | G24: 8 | H24: 3 | I24: =IF(H24="","-",ROUNDUP(IFERROR(VLOOKUP(H24,Парапетры!$G$4:$P$77,$C$4,FALSE),0)*$C$18,0)) -> 53
E25: Russian Roulette | F25: 22 | G25: 6 | H25: 5-8 | I25: =IF(H25="","-",ROUNDUP(IFERROR(VLOOKUP(H25,Парапетры!$G$4:$P$77,$C$4,FALSE),0)*$C$18,0)) -> 34
E26: КСП "Феникс" | F26: 23 | G26: 4 | H26: 19 | I26: =IF(H26="","-",ROUNDUP(IFERROR(VLOOKUP(H26,Парапетры!$G$4:$P$77,$C$4,FALSE),0)*$C$18,0)) -> 4
E27: ФК "Форвард" | F27: 24 | G27: 2 | I27: =IF(H27="","-",ROUNDUP(IFERROR(VLOOKUP(H27,Парапетры!$G$4:$P$77,$C$4,FALSE),0)*$C$18,0)) -> -
E28: АФК-Кузбасс | F28: 25 | G28: 0 | H28: 9 | I28: =IF(H28="","-",ROUNDUP(IFERROR(VLOOKUP(H28,Парапетры!$G$4:$P$77,$C$4,FALSE),0)*$C$18,0)) -> 25
E29: КЛФП-Минск | F29: 26 | G29: 0 | I29: =IF(H29="","-",ROUNDUP(IFERROR(VLOOKUP(H29,Парапетры!$G$4:$P$77,$C$4,FALSE),0)*$C$18,0)) -> -
E30: EXE | H30: 12 | I30: =IF(H30="","-",ROUNDUP(IFERROR(VLOOKUP(H30,Парапетры!$G$4:$P$77,$C$4,FALSE),0)*$C$18,0)) -> 16
E31: Сборная ЗенитЗоне.ру | H31: 15 | I31: =IF(H31="","-",ROUNDUP(IFERROR(VLOOKUP(H31,Парапетры!$G$4:$P$77,$C$4,FALSE),0)*$C$18,0)) -> 11
E32: VFLP.RU | H32: 5-8 | I32: =IF(H32="","-",ROUNDUP(IFERROR(VLOOKUP(H32,Парапетры!$G$4:$P$77,$C$4,FALSE),0)*$C$18,0)) -> 34
E33: КЛФП "Мордовия" | H33: 1 | I33: =IF(H33="","-",ROUNDUP(IFERROR(VLOOKUP(H33,Парапетры!$G$4:$P$77,$C$4,FALSE),0)*$C$18,0)) -> 67

Sheet Торпедо
A1: Лига Торпедо.ру | E1: Положение команд в турнире
A2: Турнир текущего сезона сыгран | C2: Да | D2: =IF(C2="Да",5,3) -> 5 | F2: Лига Торпедо.ру - 2010 | H2: Лига Торпедо.ру - 2011
A3: Параметры текущего сезона | F3: Место | G3: Очки | H3: Место | I3: Очки
A4: Количество команд | B4: 16 | C4: =IF(B4>29,2,IF(B4>23,3,IF(B4>19,4,IF(B4>14,5,IF(B4>12,6,IF(B4>10,7,IF(B4>8,8,IF(B4>6,9,10)))))))) -> 5 | E4: КФП Mont Blanc | F4: 1 | G4: =IF(F4="","-",ROUNDUP(IFERROR(VLOOKUP(F4,Парапетры!$G$4:$P$77,$C$4,FALSE),0)*$C$18,0)) -> 46 | H4: 13 | I4: =IF(H4="","-",ROUNDUP(IFERROR(VLOOKUP(H4,Парапетры!$G$4:$P$77,$C$4,FALSE),0)*$C$18,0)) -> 7
E5: KFP.RU | F5: 2 | G5: =IF(F5="","-",ROUNDUP(IFERROR(VLOOKUP(F5,Парапетры!$G$4:$P$77,$C$4,FALSE),0)*$C$18,0)) -> 40 | H5: 16 | I5: =IF(H5="","-",ROUNDUP(IFERROR(VLOOKUP(H5,Парапетры!$G$4:$P$77,$C$4,FALSE),0)*$C$18,0)) -> 2
A6: Название параметра | B6: Оценка | C6: Коэфф. | E6: Торпедо.ру | F6: 3 | G6: =IF(F6="","-",ROUNDUP(IFERROR(VLOOKUP(F6,Парапетры!$G$4:$P$77,$C$4,FALSE),0)*$C$18,0)) -> 34 | H6: 10 | I6: =IF(H6="","-",ROUNDUP(IFERROR(VLOOKUP(H6,Парапетры!$G$4:$P$77,$C$4,FALSE),0)*$C$18,0)) -> 11
A7: Автоматизация | B7: Нет | C7: =IF(B7="Да",Парапетры!C2,0) -> 0 | E7: 7-40 | F7: 4 | G7: =IF(F7="","-",ROUNDUP(IFERROR(VLOOKUP(F7,Парапетры!$G$4:$P$77,$C$4,FALSE),0)*$C$18,0)) -> 29 | H7: 1 | I7: =IF(H7="","-",ROUNDUP(IFERROR(VLOOKUP(H7,Парапетры!$G$4:$P$77,$C$4,FALSE),0)*$C$18,0)) -> 46
A8: Замены | B8: Нет | C8: =IF(B8="Да",Парапетры!C3,0) -> 0 | E8: Профессионалы прогноза | F8: 5 | G8: =IF(F8="","-",ROUNDUP(IFERROR(VLOOKUP(F8,Парапетры!$G$4:$P$77,$C$4,FALSE),0)*$C$18,0)) -> 25 | H8: 9 | I8: =IF(H8="","-",ROUNDUP(IFERROR(VLOOKUP(H8,Парапетры!$G$4:$P$77,$C$4,FALSE),0)*$C$18,0)) -> 13
A9: Корреляция | B9: Нет | C9: =IF(B9="Да",Парапетры!C4,0) -> 0 | E9: АСП "Погоня" | F9: 6 | G9: =IF(F9="","-",ROUNDUP(IFERROR(VLOOKUP(F9,Парапетры!$G$4:$P$77,$C$4,FALSE),0)*$C$18,0)) -> 22 | H9: 3 | I9: =IF(H9="","-",ROUNDUP(IFERROR(VLOOKUP(H9,Парапетры!$G$4:$P$77,$C$4,FALSE),0)*$C$18,0)) -> 34
A10: Карточки | B10: Нет | C10: =IF(B10="Да",Парапетры!C5,0) -> 0 | E10: Funkysouls.com | F10: 7 | G10: =IF(F10="","-",ROUNDUP(IFERROR(VLOOKUP(F10,Парапетры!$G$4:$P$77,$C$4,FALSE),0)*$C$18,0)) -> 19 | I10: =IF(H10="","-",ROUNDUP(IFERROR(VLOOKUP(H10,Парапетры!$G$4:$P$77,$C$4,FALSE),0)*$C$18,0)) -> -
A11: Трансфертные окна | B11: Нет | C11: =IF(B11="Да",Парапетры!C6,0) -> 0 | E11: МКСП "Альянс" | F11: 8 | G11: =IF(F11="","-",ROUNDUP(IFERROR(VLOOKUP(F11,Парапетры!$G$4:$P$77,$C$4,FALSE),0)*$C$18,0)) -> 16 | H11: 5 | I11: =IF(H11="","-",ROUNDUP(IFERROR(VLOOKUP(H11,Парапетры!$G$4:$P$77,$C$4,FALSE),0)*$C$18,0)) -> 25
A12: Система прогнозирования1 | B12: Да | C12: =IF(B12="Да",Парапетры!C7,0) -> 0.02 | E12: VOON.RU | F12: 9 | G12: =IF(F12="","-",ROUNDUP(IFERROR(VLOOKUP(F12,Парапетры!$G$4:$P$77,$C$4,FALSE),0)*$C$18,0)) -> 13 | H12: 2 | I12: =IF(H12="","-",ROUNDUP(IFERROR(VLOOKUP(H12,Парапетры!$G$4:$P$77,$C$4,FALSE),0)*$C$18,0)) -> 40
A13: Организация | B13: 5 | C13: =B13*Парапетры!C8 -> 0.15 | E13: Торпедо.ру - 3 | F13: 10 | G13: =IF(F13="","-",ROUNDUP(IFERROR(VLOOKUP(F13,Парапетры!$G$4:$P$77,$C$4,FALSE),0)*$C$18,0)) -> 11 | I13: =IF(H13="","-",ROUNDUP(IFERROR(VLOOKUP(H13,Парапетры!$G$4:$P$77,$C$4,FALSE),0)*$C$18,0)) -> -
A14: Пресса, пресс-конференции отчеты. | B14: 0 | C14: =B14*Парапетры!C9 -> 0 | E14: ОЛФП Одесса | F14: 11-12 | G14: =IF(F14="","-",ROUNDUP(IFERROR(VLOOKUP(F14,Парапетры!$G$4:$P$77,$C$4,FALSE),0)*$C$18,0)) -> 0 | H14: 14 | I14: =IF(H14="","-",ROUNDUP(IFERROR(VLOOKUP(H14,Парапетры!$G$4:$P$77,$C$4,FALSE),0)*$C$18,0)) -> 5
A15: Статистика | B15: 3 | C15: =B15*Парапетры!C10 -> 0.045 | E15: FC NOROC | F15: 13-14 | G15: =IF(F15="","-",ROUNDUP(IFERROR(VLOOKUP(F15,Парапетры!$G$4:$P$77,$C$4,FALSE),0)*$C$18,0)) -> 0 | H15: 7 | I15: =IF(H15="","-",ROUNDUP(IFERROR(VLOOKUP(H15,Парапетры!$G$4:$P$77,$C$4,FALSE),0)*$C$18,0)) -> 19
A16: Количество команд из первый 10 рейтинга на начало турнира | B16: 6 | C16: =B16*Парапетры!C11 -> 0.3 | E16: Сборная Мегаспорта | F16: 15-16 | G16: =IF(F16="","-",ROUNDUP(IFERROR(VLOOKUP(F16,Парапетры!$G$4:$P$77,$C$4,FALSE),0)*$C$18,0)) -> 0 | I16: =IF(H16="","-",ROUNDUP(IFERROR(VLOOKUP(H16,Парапетры!$G$4:$P$77,$C$4,FALSE),0)*$C$18,0)) -> -
E17: SNHL.RU | F17: 17-18 | G17: =IF(F17="","-",ROUNDUP(IFERROR(VLOOKUP(F17,Парапетры!$G$4:$P$77,$C$4,FALSE),0)*$C$18,0)) -> 0 | I17: =IF(H17="","-",ROUNDUP(IFERROR(VLOOKUP(H17,Парапетры!$G$4:$P$77,$C$4,FALSE),0)*$C$18,0)) -> -
A18: Итого поправочный коэффициент | C18: =SUM(C7:C17)+1 -> 1.515 | E18: АФК-Кузбасс | F18: 19-20 | G18: =IF(F18="","-",ROUNDUP(IFERROR(VLOOKUP(F18,Парапетры!$G$4:$P$77,$C$4,FALSE),0)*$C$18,0)) -> 0 | I18: =IF(H18="","-",ROUNDUP(IFERROR(VLOOKUP(H18,Парапетры!$G$4:$P$77,$C$4,FALSE),0)*$C$18,0)) -> -
E19: КФК "ТОТО на ПЕСКАХ" | F19: 11-12 | G19: =IF(F19="","-",ROUNDUP(IFERROR(VLOOKUP(F19,Парапетры!$G$4:$P$77,$C$4,FALSE),0)*$C$18,0)) -> 0 | I19: =IF(H19="","-",ROUNDUP(IFERROR(VLOOKUP(H19,Парапетры!$G$4:$P$77,$C$4,FALSE),0)*$C$18,0)) -> -
A20: Максимальное количество очков за турнир | C20: =MAX(I4:I40) -> 46 | E20: Красно-Белый Израиль (КБИ) | F20: 13-14 | G20: =IF(F20="","-",ROUNDUP(IFERROR(VLOOKUP(F20,Парапетры!$G$4:$P$77,$C$4,FALSE),0)*$C$18,0)) -> 0 | I20: =IF(H20="","-",ROUNDUP(IFERROR(VLOOKUP(H20,Парапетры!$G$4:$P$77,$C$4,FALSE),0)*$C$18,0)) -> -
A21: Классность турнира исходя из кол очков | C21: =IF(C20>=Парапетры!C16,"Премьер",IF(C20>=Парапетры!C17,"A",IF(C20>=Парапетры!C18,"B",IF(C20>=Парапетры!C19,"C","D")))) -> C | E21: EXE | F21: 15-16 | G21: =IF(F21="","-",ROUNDUP(IFERROR(VLOOKUP(F21,Парапетры!$G$4:$P$77,$C$4,FALSE),0)*$C$18,0)) -> 0 | H21: 4 | I21: =IF(H21="","-",ROUNDUP(IFERROR(VLOOKUP(H21,Парапетры!$G$4:$P$77,$C$4,FALSE),0)*$C$18,0)) -> 29
A22: Классность прошлогоднего турнира | C22: C | E22: Торпедо.ру - 2 | F22: 17-18 | G22: =IF(F22="","-",ROUNDUP(IFERROR(VLOOKUP(F22,Парапетры!$G$4:$P$77,$C$4,FALSE),0)*$C$18,0)) -> 0 | H22: 11 | I22: =IF(H22="","-",ROUNDUP(IFERROR(VLOOKUP(H22,Парапетры!$G$4:$P$77,$C$4,FALSE),0)*$C$18,0)) -> 10
E23: NeXT | F23: 19-20 | G23: =IF(F23="","-",ROUNDUP(IFERROR(VLOOKUP(F23,Парапетры!$G$4:$P$77,$C$4,FALSE),0)*$C$18,0)) -> 0 | I23: =IF(H23="","-",ROUNDUP(IFERROR(VLOOKUP(H23,Парапетры!$G$4:$P$77,$C$4,FALSE),0)*$C$18,0)) -> -
A24: 1 - Ставится "Да", если турнир является базовым по этой системе | E24: ICSP "Alliance" | H24: 6 | I24: =IF(H24="","-",ROUNDUP(IFERROR(VLOOKUP(H24,Парапетры!$G$4:$P$77,$C$4,FALSE),0)*$C$18,0)) -> 22
E25: ЛХП | H25: 8 | I25: =IF(H25="","-",ROUNDUP(IFERROR(VLOOKUP(H25,Парапетры!$G$4:$P$77,$C$4,FALSE),0)*$C$18,0)) -> 16
I26: =IF(H26="","-",ROUNDUP(IFERROR(VLOOKUP(H26,Парапетры!$G$4:$P$77,$C$4,FALSE),0)*$C$18,0)) -> -
E27: "Профессионалы прогноза"-2 | H27: 12 | I27: =IF(H27="","-",ROUNDUP(IFERROR(VLOOKUP(H27,Парапетры!$G$4:$P$77,$C$4,FALSE),0)*$C$18,0)) -> 8
E28: КФП "Mont Blanc"-2 | H28: 15 | I28: =IF(H28="","-",ROUNDUP(IFERROR(VLOOKUP(H28,Парапетры!$G$4:$P$77,$C$4,FALSE),0)*$C$18,0)) -> 4

Sheet КубокФФП
A1: Кубок ФФП 2011 | E1: Положение команд в турнире
A2: Турнир текущего сезона сыгран | C2: Да | D2: =IF(C2="Да",5,3) -> 5 | F2: Кубок ФФП 2009 | H2: Кубок ФФП 2010
A3: Параметры текущего сезона | F3: Место | G3: Очки | H3: Место | I3: Очки
A4: Количество команд | B4: 32 | C4: =IF(B4>29,2,IF(B4>23,3,IF(B4>19,4,IF(B4>14,5,IF(B4>12,6,IF(B4>10,7,IF(B4>8,8,IF(B4>6,9,10)))))))) -> 2 | E4: КФП "Арсенал" | F4: Кубок | G4: 53 | I4: =IF(H4="","-",ROUNDUP(IFERROR(VLOOKUP(H4,Парапетры!$G$81:$P$87,$C$4,FALSE),0)*$C$18,0)) -> -
E5: Kanonir.Com | F5: 1/8 | G5: 27 | I5: =IF(H5="","-",ROUNDUP(IFERROR(VLOOKUP(H5,Парапетры!$G$81:$P$87,$C$4,FALSE),0)*$C$18,0)) -> -
A6: Название параметра | B6: Оценка | C6: Коэфф. | E6: ТОРПЕДО.РУ | F6: Финалист | G6: 47 | I6: =IF(H6="","-",ROUNDUP(IFERROR(VLOOKUP(H6,Парапетры!$G$81:$P$87,$C$4,FALSE),0)*$C$18,0)) -> -
A7: Автоматизация | B7: Нет | C7: =IF(B7="Да",Парапетры!C2,0) -> 0 | E7: ОЛФП Одесса | F7: 1/16 | G7: 18 | I7: =IF(H7="","-",ROUNDUP(IFERROR(VLOOKUP(H7,Парапетры!$G$81:$P$87,$C$4,FALSE),0)*$C$18,0)) -> -
A8: Замены | B8: Нет | C8: =IF(B8="Да",Парапетры!C3,0) -> 0 | E8: CHILE PEPPERS | F8: 1/16 | G8: 18 | I8: =IF(H8="","-",ROUNDUP(IFERROR(VLOOKUP(H8,Парапетры!$G$81:$P$87,$C$4,FALSE),0)*$C$18,0)) -> -
A9: Корреляция | B9: Нет | C9: =IF(B9="Да",Парапетры!C4,0) -> 0 | E9: 12ua | F9: 1/16 | G9: 18 | I9: =IF(H9="","-",ROUNDUP(IFERROR(VLOOKUP(H9,Парапетры!$G$81:$P$87,$C$4,FALSE),0)*$C$18,0)) -> -
A10: Карточки | B10: Нет | C10: =IF(B10="Да",Парапетры!C5,0) -> 0 | E10: СФП Football.By | F10: 1/2 | G10: 44 | I10: =IF(H10="","-",ROUNDUP(IFERROR(VLOOKUP(H10,Парапетры!$G$81:$P$87,$C$4,FALSE),0)*$C$18,0)) -> -
A11: Трансфертные окна | B11: Нет | C11: =IF(B11="Да",Парапетры!C6,0) -> 0 | E11: FC NOROC | F11: 1/16 | G11: 18 | I11: =IF(H11="","-",ROUNDUP(IFERROR(VLOOKUP(H11,Парапетры!$G$81:$P$87,$C$4,FALSE),0)*$C$18,0)) -> -
A12: Система прогнозирования1 | B12: Нет | C12: =IF(B12="Да",Парапетры!C7,0) -> 0 | E12: Funkysouls.com | F12: 1/4 | G12: 35 | I12: =IF(H12="","-",ROUNDUP(IFERROR(VLOOKUP(H12,Парапетры!$G$81:$P$87,$C$4,FALSE),0)*$C$18,0)) -> -
A13: Организация | C13: =B13*Парапетры!C8 -> 0 | E13: УкрФутбол | F13: 1/16 | G13: 18 | I13: =IF(H13="","-",ROUNDUP(IFERROR(VLOOKUP(H13,Парапетры!$G$81:$P$87,$C$4,FALSE),0)*$C$18,0)) -> -
A14: Пресса, пресс-конференции отчеты. | C14: =B14*Парапетры!C9 -> 0 | E14: Russian Roulette | F14: 1/4 | G14: 35 | I14: =IF(H14="","-",ROUNDUP(IFERROR(VLOOKUP(H14,Парапетры!$G$81:$P$87,$C$4,FALSE),0)*$C$18,0)) -> -
A15: Статистика | C15: =B15*Парапетры!C10 -> 0 | E15: МКСП "Альянс" | F15: 1/16 | G15: 18 | I15: =IF(H15="","-",ROUNDUP(IFERROR(VLOOKUP(H15,Парапетры!$G$81:$P$87,$C$4,FALSE),0)*$C$18,0)) -> -
A16: Количество команд из первый 10 рейтинга на начало турнира | C16: =B16*Парапетры!C11 -> 0 | E16: КЛФП "Харьков" | F16: 1/4 | G16: 35 | I16: =IF(H16="","-",ROUNDUP(IFERROR(VLOOKUP(H16,Парапетры!$G$81:$P$87,$C$4,FALSE),0)*$C$18,0)) -> -
E17: КФП Mont Blanc | F17: 1/8 | G17: 27 | I17: =IF(H17="","-",ROUNDUP(IFERROR(VLOOKUP(H17,Парапетры!$G$81:$P$87,$C$4,FALSE),0)*$C$18,0)) -> -
A18: Итого поправочный коэффициент | C18: =SUM(C7:C17)+1 -> 1 | E18: ВФЛ КБК | F18: 1/4 | G18: 35 | I18: =IF(H18="","-",ROUNDUP(IFERROR(VLOOKUP(H18,Парапетры!$G$81:$P$87,$C$4,FALSE),0)*$C$18,0)) -> -
E19: BEST FOOTBALL & PARTIZANS | F19: 1/8 | G19: 27 | I19: =IF(H19="","-",ROUNDUP(IFERROR(VLOOKUP(H19,Парапетры!$G$81:$P$87,$C$4,FALSE),0)*$C$18,0)) -> -
A20: Максимальное количество очков за турнир | C20: =MAX(I4:I40) -> 0 | E20: TOTO SHEVI | G20: - | I20: =IF(H20="","-",ROUNDUP(IFERROR(VLOOKUP(H20,Парапетры!$G$81:$P$87,$C$4,FALSE),0)*$C$18,0)) -> -
A21: Классность турнира исходя из кол очков | C21: =IF(C20>=Парапетры!C24,"kA",IF(C20>=Парапетры!C25,"kB",IF(C20>=Парапетры!C26,"kC","kD"))) -> kD | E21: Сборная Мегаспорта | F21: 1/16 | G21: 18 | I21: =IF(H21="","-",ROUNDUP(IFERROR(VLOOKUP(H21,Парапетры!$G$81:$P$87,$C$4,FALSE),0)*$C$18,0)) -> -
A22: Классность прошлогоднего турнира | C22: kA | E22: ФК "Форвард" | F22: 1/16 | G22: 18 | I22: =IF(H22="","-",ROUNDUP(IFERROR(VLOOKUP(H22,Парапетры!$G$81:$P$87,$C$4,FALSE),0)*$C$18,0)) -> -
E23: Профессионалы прогноза | F23: 1/16 | G23: 18 | I23: =IF(H23="","-",ROUNDUP(IFERROR(VLOOKUP(H23,Парапетры!$G$81:$P$87,$C$4,FALSE),0)*$C$18,0)) -> -
A24: 1 - Ставится "Да", если турнир является базовым по этой системе | E24: АСП "Погоня" | F24: 1/8 | G24: 27 | I24: =IF(H24="","-",ROUNDUP(IFERROR(VLOOKUP(H24,Парапетры!$G$81:$P$87,$C$4,FALSE),0)*$C$18,0)) -> -
A25: В кубке параметры, относительно чемпионата уменьшены в двое | E25: RED ARMY | F25: 1/16 | G25: 18 | I25: =IF(H25="","-",ROUNDUP(IFERROR(VLOOKUP(H25,Парапетры!$G$81:$P$87,$C$4,FALSE),0)*$C$18,0)) -> -
E26: 7-40 | F26: 1/8 | G26: 27 | I26: =IF(H26="","-",ROUNDUP(IFERROR(VLOOKUP(H26,Парапетры!$G$81:$P$87,$C$4,FALSE),0)*$C$18,0)) -> -
E27: КЛФП-Минск | F27: 1/16 | G27: 18 | I27: =IF(H27="","-",ROUNDUP(IFERROR(VLOOKUP(H27,Парапетры!$G$81:$P$87,$C$4,FALSE),0)*$C$18,0)) -> -
E28: KFP.RU | F28: 1/8 | G28: 27 | I28: =IF(H28="","-",ROUNDUP(IFERROR(VLOOKUP(H28,Парапетры!$G$81:$P$87,$C$4,FALSE),0)*$C$18,0)) -> -
E29: Fprognoz.com | F29: 1/16 | G29: 18 | I29: =IF(H29="","-",ROUNDUP(IFERROR(VLOOKUP(H29,Парапетры!$G$81:$P$87,$C$4,FALSE),0)*$C$18,0)) -> -
E30: VOON.RU | F30: 1/8 | G30: 27 | I30: =IF(H30="","-",ROUNDUP(IFERROR(VLOOKUP(H30,Парапетры!$G$81:$P$87,$C$4,FALSE),0)*$C$18,0)) -> -
E31: Красно-Белый Израиль (КБИ) | F31: 1/2 | G31: 44 | I31: =IF(H31="","-",ROUNDUP(IFERROR(VLOOKUP(H31,Парапетры!$G$81:$P$87,$C$4,FALSE),0)*$C$18,0)) -> -
E32: АФК-Кузбасс | F32: 1/8 | G32: 27 | I32: =IF(H32="","-",ROUNDUP(IFERROR(VLOOKUP(H32,Парапетры!$G$81:$P$87,$C$4,FALSE),0)*$C$18,0)) -> -
E33: ЛитрБол | F33: 1/16 | G33: 18 | I33: =IF(H33="","-",ROUNDUP(IFERROR(VLOOKUP(H33,Парапетры!$G$81:$P$87,$C$4,FALSE),0)*$C$18,0)) -> -
E34: КСП "Феникс" | F34: 1/16 | G34: 18 | I34: =IF(H34="","-",ROUNDUP(IFERROR(VLOOKUP(H34,Парапетры!$G$81:$P$87,$C$4,FALSE),0)*$C$18,0)) -> -
E35: Союз GM | G35: - | I35: =IF(H35="","-",ROUNDUP(IFERROR(VLOOKUP(H35,Парапетры!$G$81:$P$87,$C$4,FALSE),0)*$C$18,0)) -> -
E36: КЛФ "Чемпион" | G36: - | I36: =IF(H36="","-",ROUNDUP(IFERROR(VLOOKUP(H36,Парапетры!$G$81:$P$87,$C$4,FALSE),0)*$C$18,0)) -> -
E37: Северное Сияние | G37: - | I37: =IF(H37="","-",ROUNDUP(IFERROR(VLOOKUP(H37,Парапетры!$G$81:$P$87,$C$4,FALSE),0)*$C$18,0)) -> -
E38: UEFA.RU | G38: - | I38: =IF(H38="","-",ROUNDUP(IFERROR(VLOOKUP(H38,Парапетры!$G$81:$P$87,$C$4,FALSE),0)*$C$18,0)) -> -
E39: CONFIANZA | G39: - | I39: =IF(H39="","-",ROUNDUP(IFERROR(VLOOKUP(H39,Парапетры!$G$81:$P$87,$C$4,FALSE),0)*$C$18,0)) -> -
E40: EXE | G40: - | I40: =IF(H40="","-",ROUNDUP(IFERROR(VLOOKUP(H40,Парапетры!$G$81:$P$87,$C$4,FALSE),0)*$C$18,0)) -> -
E41: Тёмная Лошадка | G41: - | I41: =IF(H41="","-",ROUNDUP(IFERROR(VLOOKUP(H41,Парапетры!$G$81:$P$87,$C$4,FALSE),0)*$C$18,0)) -> -
E42: Евро-Футбол.ру | G42: - | I42: =IF(H42="","-",ROUNDUP(IFERROR(VLOOKUP(H42,Парапетры!$G$81:$P$87,$C$4,FALSE),0)*$C$18,0)) -> -

Sheet Парапетры
A1: Шкала дополнительных коэффициентов | G1: Шкала баллов за занятые места
A2: 1. Уровень технического оснащения турнира. | B2: Автоматизация | C2: 0.1 | E2: Да | G2: Чемпионаты
A3: 2. Оригинальность | B3: Замены | C3: 0.02 | E3: Нет | G3: Место | H3: >=30 | I3: >=24; <30 | J3: >=20; <24 | K3: >=15; <20 | L3: 13-14 | M3: 11-12 | N3: 9-10 | O3: 7-8 | P3: 5-6
B4: Корреляция | C4: 0.02 | G4: 1 | H4: 60 | I4: 45 | J4: 38 | K4: 30 | L4: 24 | M4: 21 | N4: 18 | O4: 14 | P4: 10
B5: Карточки | C5: 0.02 | G5: 2 | H5: 55 | I5: 41 | J5: 34 | K5: 26 | L5: 21 | M5: 18 | N5: 15 | O5: 11 | P5: 7
B6: Трансфертные окна | C6: 0.02 | G6: 3 | H6: 51 | I6: 37 | J6: 30 | K6: 22 | L6: 18 | M6: 15 | N6: 12 | O6: 8 | P6: 5
B7: Система прогнозирования | C7: 0.02 | G7: 4 | H7: 47 | I7: 33 | J7: 26 | K7: 19 | L7: 15 | M7: 12 | N7: 9 | O7: 6 | P7: 3
A8: 3. Организационный уровень турнира. | B8: Коэффициент за каждый балл (по пятибальной системе), по опросам участников турнира. | C8: 0.03 | G8: 5 | H8: 44 | I8: 30 | J8: 23 | K8: 16 | L8: 13 | M8: 10 | N8: 7 | O8: 4 | P8: 2
A9: 4. Уровень информационного освещения турнира. | C9: 0.015 | G9: 6 | H9: 41 | I9: 27 | J9: 20 | K9: 14 | L9: 11 | M9: 8 | N9: 5 | O9: 3 | P9: 1
A10: 5. Обьем статистической информации по ходу турнира. | C10: 0.015 | G10: 7 | H10: 38 | I10: 24 | J10: 18 | K10: 12 | L10: 9 | M10: 6 | N10: 4 | O10: 2
A11: 6. Состав участников | B11: Коэффициент за каждую команду из первой десятки на начало турнира | C11: 0.05 | G11: 8 | H11: 35 | I11: 22 | J11: 16 | K11: 10 | L11: 7 | M11: 5 | N11: 3 | O11: 1
G12: 9 | H12: 32 | I12: 20 | J12: 14 | K12: 8 | L12: 6 | M12: 4 | N12: 2
G13: 10 | H13: 30 | I13: 18 | J13: 12 | K13: 7 | L13: 5 | M13: 3 | N13: 1
A14: Классификация турниров | G14: 11 | H14: 28 | I14: 16 | J14: 10 | K14: 6 | L14: 4 | M14: 2
A15: Количество очков за первое место | B15: Класс | C15: Порог | G15: 12 | H15: 26 | I15: 14 | J15: 9 | K15: 5 | L15: 3 | M15: 1
A16: >= 80 | B16: Премьер | C16: 100 | G16: 13 | H16: 24 | I16: 12 | J16: 8 | K16: 4 | L16: 2
A17: >=60 и < 80 | B17: A | C17: 80 | G17: 14 | H17: 22 | I17: 11 | J17: 7 | K17: 3 | L17: 1
A18: >=45 и < 60 | B18: B | C18: 60 | G18: 15 | H18: 20 | I18: 10 | J18: 6 | K18: 2
A19: >=30 и < 45 | B19: C | C19: 40 | G19: 16 | H19: 18 | I19: 9 | J19: 5 | K19: 1
A20: <30 | B20: D | G20: 17 | H20: 16 | I20: 8 | J20: 4
G21: 18 | H21: 15 | I21: 7 | J21: 3
A22: Классификация кубков | G22: 19 | H22: 14 | I22: 6 | J22: 2
A23: Количество очков за первое место | B23: Класс | C23: Порог | G23: 20 | H23: 13 | I23: 5 | J23: 1
A24: >=35 | B24: kA | C24: 40 | G24: 21 | H24: 12 | I24: 4
A25: >=25 и < 35 | B25: kB | C25: 30 | G25: 22 | H25: 11 | I25: 3
A26: >=20 и < 25 | B26: kC | C26: 20 | G26: 23 | H26: 10 | I26: 2
A27: <20 | B27: kD | G27: 24 | H27: 9 | I27: 1
G28: 25 | H28: 8
G29: 26 | H29: 7
G30: 27 | H30: 6
G31: 28 | H31: 5
G32: 29 | H32: 4
G33: 30 | H33: 3
G34: 31 | H34: 2
G35: 32 | H35: 1
G36: 33
G37: 34
G38: 35
G39: 36
G40: 37
G41: 38
G42: 39
G43: 40
G44: 3-4 | H44: 49
G45: 5-8 | H45: 39.5 | J45: 19.25
G46: 9-16 | H46: 25
G47: 13-16 | H47: 21
G48: 17-20 | H48: 14.5
G49: 17-24 | H49: 12.5
G50: 19-21 | H50: 13 | I50: 5
G51: 21-24 | H51: 10.5
G52: 22-24 | H52: 10 | I52: 2
G53: 25-27 | H53: 7
G54: 25-28 | H54: 6.5
G55: 25-32 | H55: 4.5
G56: 28-30 | H56: 4
G57: 29-31 | H57: 3
G58: 29-32 | H58: 2.5
G59: 31-33 | H59: 1
G60: 34-36
G61: 11-12 | J61: 11
G62: 13-14 | J62: 7.5
G63: 15-16 | J63: 5.5
G64: 17-18 | J64: 3.5
G65: 19-20 | J65: 1.5
G66: 13-15 | I66: 11
G67: 16-18 | I67: 8
G68: 11-15 | H68: 24
G69: 16-20 | H69: 15.2
G70: 21-25 | H70: 10
G71: 26-30 | H71: 5
G73: 37
G74: 38
G75: 39
G76: 40
G77: - | H77: - | I77: - | J77: - | K77: - | L77: - | M77: - | N77: - | O77: - | P77: -
G79: Кубки
G80: Место | H80: >=30 | I80: >=24; <30 | J80: >=20; <24 | K80: >=15; <20 | L80: 13-14 | M80: 11-12 | N80: 9-10 | O80: 7-8 | P80: 5-6
G81: Кубок | H81: 30 | I81: 25 | J81: 20 | K81: 15 | L81: 12 | M81: 10 | N81: 9 | O81: 7
G82: Финалист | H82: 27 | I82: 22 | J82: 17 | K82: 13 | L82: 10 | M82: 9 | N82: 7 | O82: 5
G83: 1/2 | H83: 25 | I83: 20 | J83: 15 | K83: 11 | L83: 8 | M83: 7 | N83: 5 | O83: 3
G84: 1/4 | H84: 20 | I84: 15 | J84: 10 | K84: 7 | L84: 5 | M84: 4 | N84: 2 | O84: 1
G85: 1/8 | H85: 15 | I85: 10 | J85: 5 | K85: 3 | L85: 2 | M85: 1
G86: 1/16 | H86: 10 | I86: 5 | J86: 3
G87: Класс. | H87: 5
